
BEGIN:VCALENDAR
VERSION:2.0
PRODID:-//Visit Richfield - ECPv6.15.20//NONSGML v1.0//EN
CALSCALE:GREGORIAN
METHOD:PUBLISH
X-WR-CALNAME:Visit Richfield
X-ORIGINAL-URL:https://visitrichfield.com
X-WR-CALDESC:Events for Visit Richfield
REFRESH-INTERVAL;VALUE=DURATION:PT1H
X-Robots-Tag:noindex
X-PUBLISHED-TTL:PT1H
BEGIN:VTIMEZONE
TZID:America/Chicago
BEGIN:DAYLIGHT
TZOFFSETFROM:-0600
TZOFFSETTO:-0500
TZNAME:CDT
DTSTART:20230312T080000
END:DAYLIGHT
BEGIN:STANDARD
TZOFFSETFROM:-0500
TZOFFSETTO:-0600
TZNAME:CST
DTSTART:20231105T070000
END:STANDARD
BEGIN:DAYLIGHT
TZOFFSETFROM:-0600
TZOFFSETTO:-0500
TZNAME:CDT
DTSTART:20240310T080000
END:DAYLIGHT
BEGIN:STANDARD
TZOFFSETFROM:-0500
TZOFFSETTO:-0600
TZNAME:CST
DTSTART:20241103T070000
END:STANDARD
BEGIN:DAYLIGHT
TZOFFSETFROM:-0600
TZOFFSETTO:-0500
TZNAME:CDT
DTSTART:20250309T080000
END:DAYLIGHT
BEGIN:STANDARD
TZOFFSETFROM:-0500
TZOFFSETTO:-0600
TZNAME:CST
DTSTART:20251102T070000
END:STANDARD
END:VTIMEZONE
BEGIN:VEVENT
DTSTART;TZID=America/Chicago:20240401T183000
DTEND;TZID=America/Chicago:20240401T200000
DTSTAMP:20260421T150144
CREATED:20230401T213437Z
LAST-MODIFIED:20240329T213838Z
UID:6457-1711996200-1712001600@visitrichfield.com
SUMMARY:Wood Lake Book Club
DESCRIPTION:Join other adults to discuss Desert Solitaire by Edward Abbey. It’s a collection of vignettes about life in the wilderness by park ranger and conservationist Edward Abbey\, detailing unique adventures from dealing with the damage of land development to discovering a dead body. \nRefreshments provided; books are available at local libraries or may be available for loan through the nature center. $5/person; free for members. Online registration is preferred at woodlakenaturecenter.org. \n 
URL:https://visitrichfield.com/event/wood-lake-book-club-2024-04-01/
LOCATION:Wood Lake Nature Center\, 6710 Lake Shore Drive\, Richfield\, MN\, 55423\, United States
CATEGORIES:books,nature,Wood Lake
ATTACH;FMTTYPE=image/jpeg:https://visitrichfield.com/wp-content/uploads/2023/04/Desert-Solitaire.jpg
END:VEVENT
BEGIN:VEVENT
DTSTART;TZID=America/Chicago:20240413T140000
DTEND;TZID=America/Chicago:20240413T150000
DTSTAMP:20260421T150144
CREATED:20240404T212025Z
LAST-MODIFIED:20240404T212056Z
UID:10039-1713016800-1713020400@visitrichfield.com
SUMMARY:Nature in Your Neighborhood:  Animal Eggs
DESCRIPTION:  \nFor ages K-G5 and an adult. Eggs come in all shapes and sizes. Come learn about our animal neighbors that are laying eggs this spring!  Please come dressed for the weather! Free.
URL:https://visitrichfield.com/event/nature-in-your-neighborhood-animal-eggs/
LOCATION:Augsburg Park Library\, 7100 Nicollet Avenue\, Richfield\, MN\, 55423
CATEGORIES:animals,nature
ATTACH;FMTTYPE=image/jpeg:https://visitrichfield.com/wp-content/uploads/2024/04/animal-eggs.jpg
END:VEVENT
BEGIN:VEVENT
DTSTART;TZID=America/Chicago:20240413T140000
DTEND;TZID=America/Chicago:20240413T163000
DTSTAMP:20260421T150144
CREATED:20240402T204538Z
LAST-MODIFIED:20240402T204538Z
UID:10029-1713016800-1713025800@visitrichfield.com
SUMMARY:Springtime Foraging 101
DESCRIPTION:Learn springtime foraging tips and tricks from guest speaker Chick of the Woods. Discover hoto spot three mushrooms (morels\, oysters\, pheasant back) and three plants (ramps\, nettle fiddleheads) you may encounter on your own while foraging this spring. This class is 100% indoors. Online registration at www.woodlakenaturecenter.org is required.
URL:https://visitrichfield.com/event/springtime-foraging-101/
LOCATION:Wood Lake Nature Center\, 6710 Lake Shore Drive\, Richfield\, MN\, 55423\, United States
CATEGORIES:nature
ATTACH;FMTTYPE=image/jpeg:https://visitrichfield.com/wp-content/uploads/2023/09/Foraging-Fun.jpg
END:VEVENT
BEGIN:VEVENT
DTSTART;TZID=America/Chicago:20240414T130000
DTEND;TZID=America/Chicago:20240414T150000
DTSTAMP:20260421T150144
CREATED:20240402T205017Z
LAST-MODIFIED:20240402T205017Z
UID:10031-1713099600-1713106800@visitrichfield.com
SUMMARY:eBird and Bird Hike
DESCRIPTION:Come explore Cornell Lab of Ornithology’s eBird application – a way to keep track of the birds you see and share sightings with others. We will learn how to use the app and then hit the trail looking for birds to add to your list!  $5 per person; half-off for members.
URL:https://visitrichfield.com/event/ebird-and-bird-hike/
LOCATION:Wood Lake Nature Center\, 6710 Lake Shore Drive\, Richfield\, MN\, 55423\, United States
CATEGORIES:animals,nature,outdoors
ATTACH;FMTTYPE=image/jpeg:https://visitrichfield.com/wp-content/uploads/2023/04/Bird-Club.jpg
END:VEVENT
BEGIN:VEVENT
DTSTART;TZID=America/Chicago:20240414T150000
DTEND;TZID=America/Chicago:20240414T163000
DTSTAMP:20260421T150144
CREATED:20240404T213606Z
LAST-MODIFIED:20240404T213607Z
UID:10042-1713106800-1713112200@visitrichfield.com
SUMMARY:Wood Collage and the Science of Trees
DESCRIPTION:  \nFor grades 1-5.  Learn about the life of trees\, and arrange wood scraps to create an abstract\, recycled wood collage artwork. Materials provided. This program is provided by Three Rivers Park District and funded with money from Minnesota’s Arts and Cultural Heritage Fund.
URL:https://visitrichfield.com/event/wood-collage-and-the-science-of-trees/
LOCATION:Augsburg Park Library\, 7100 Nicollet Avenue\, Richfield\, MN\, 55423
CATEGORIES:crafts,nature
ATTACH;FMTTYPE=image/jpeg:https://visitrichfield.com/wp-content/uploads/2024/04/Wood-collage.jpg
END:VEVENT
BEGIN:VEVENT
DTSTART;TZID=America/Chicago:20240420T120000
DTEND;TZID=America/Chicago:20240420T133000
DTSTAMP:20260421T150144
CREATED:20240329T215305Z
LAST-MODIFIED:20240329T215327Z
UID:10006-1713614400-1713619800@visitrichfield.com
SUMMARY:Urban Coyote Research
DESCRIPTION:Find out about urban coyote research that is going on right here at Wood Lake. Coyotes are remarkably adapted to living in urban areas\, but little is known about why they are so successful. U of M Ph.D. candidate Geoff Miller will share some of his research methods and findings. We will head outside on a short hike if the weather allows. Free.
URL:https://visitrichfield.com/event/urban-coyote-research-2/
LOCATION:Wood Lake Nature Center\, 6710 Lake Shore Drive\, Richfield\, MN\, 55423\, United States
CATEGORIES:animals,nature
ATTACH;FMTTYPE=image/jpeg:https://visitrichfield.com/wp-content/uploads/2022/10/urban-coyote.jpg
END:VEVENT
BEGIN:VEVENT
DTSTART;TZID=America/Chicago:20240421T130000
DTEND;TZID=America/Chicago:20240421T160000
DTSTAMP:20260421T150144
CREATED:20240402T205506Z
LAST-MODIFIED:20240402T205507Z
UID:10033-1713704400-1713715200@visitrichfield.com
SUMMARY:Earth Day Celebration!
DESCRIPTION:Help restore Wood Lake’s native habitats\, pick up litter\, and assist with other site projects. The Midwest Peregrine Society will present live falcons in two fun\, educational programs. The celebration includes an Earth day fair with community and environmental group booths. This is a great program for individuals\, families\, and other community service organizations. Free.
URL:https://visitrichfield.com/event/earth-day-celebration/
LOCATION:Wood Lake Nature Center\, 6710 Lake Shore Drive\, Richfield\, MN\, 55423\, United States
CATEGORIES:nature,outdoors
ATTACH;FMTTYPE=image/jpeg:https://visitrichfield.com/wp-content/uploads/2024/04/Earth-Day.jpg
END:VEVENT
BEGIN:VEVENT
DTSTART;TZID=America/Chicago:20240428T150000
DTEND;TZID=America/Chicago:20240428T160000
DTSTAMP:20260421T150144
CREATED:20240402T205805Z
LAST-MODIFIED:20240402T205805Z
UID:10036-1714316400-1714320000@visitrichfield.com
SUMMARY:Live Animal Hour
DESCRIPTION:Meet the live animal ambassadors that are on exhibit in the nature center building. Learn about their habits and how we care for these amazing amphibians and reptiles. Learn the proper way to handle toads\, turtles\, and snakes. $5 per person; half-off for members.
URL:https://visitrichfield.com/event/live-animal-hour-8/
LOCATION:Wood Lake Nature Center\, 6710 Lake Shore Drive\, Richfield\, MN\, 55423\, United States
CATEGORIES:animals,nature
ATTACH;FMTTYPE=image/jpeg:https://visitrichfield.com/wp-content/uploads/2023/12/Live-Animal-Hour.jpg
END:VEVENT
END:VCALENDAR