
BEGIN:VCALENDAR
VERSION:2.0
PRODID:-//Visit Richfield - ECPv6.15.20//NONSGML v1.0//EN
CALSCALE:GREGORIAN
METHOD:PUBLISH
X-WR-CALNAME:Visit Richfield
X-ORIGINAL-URL:https://visitrichfield.com
X-WR-CALDESC:Events for Visit Richfield
REFRESH-INTERVAL;VALUE=DURATION:PT1H
X-Robots-Tag:noindex
X-PUBLISHED-TTL:PT1H
BEGIN:VTIMEZONE
TZID:America/Chicago
BEGIN:DAYLIGHT
TZOFFSETFROM:-0600
TZOFFSETTO:-0500
TZNAME:CDT
DTSTART:20230312T080000
END:DAYLIGHT
BEGIN:STANDARD
TZOFFSETFROM:-0500
TZOFFSETTO:-0600
TZNAME:CST
DTSTART:20231105T070000
END:STANDARD
BEGIN:DAYLIGHT
TZOFFSETFROM:-0600
TZOFFSETTO:-0500
TZNAME:CDT
DTSTART:20240310T080000
END:DAYLIGHT
BEGIN:STANDARD
TZOFFSETFROM:-0500
TZOFFSETTO:-0600
TZNAME:CST
DTSTART:20241103T070000
END:STANDARD
BEGIN:DAYLIGHT
TZOFFSETFROM:-0600
TZOFFSETTO:-0500
TZNAME:CDT
DTSTART:20250309T080000
END:DAYLIGHT
BEGIN:STANDARD
TZOFFSETFROM:-0500
TZOFFSETTO:-0600
TZNAME:CST
DTSTART:20251102T070000
END:STANDARD
BEGIN:DAYLIGHT
TZOFFSETFROM:-0600
TZOFFSETTO:-0500
TZNAME:CDT
DTSTART:20260308T080000
END:DAYLIGHT
BEGIN:STANDARD
TZOFFSETFROM:-0500
TZOFFSETTO:-0600
TZNAME:CST
DTSTART:20261101T070000
END:STANDARD
END:VTIMEZONE
BEGIN:VEVENT
DTSTART;TZID=America/Chicago:20250420T113000
DTEND;TZID=America/Chicago:20250420T143000
DTSTAMP:20260424T210641
CREATED:20250311T152115Z
LAST-MODIFIED:20250311T152115Z
UID:11058-1745148600-1745159400@visitrichfield.com
SUMMARY:Live Music:  Tom Hunter
DESCRIPTION:Live music at the VFW!  Tom Hunter is a Minneapolis piano player and singer and a true jack-of-all-trades when it comes to music. He’s got the blues\, he’s got the standards\, he’s got the Americana\, and he’s even got a little bit of soul. But don’t let his musical prowess fool you – Tom is also one heck of a showman. Whether he’s belting out a classic ballad or getting down and dirty with some gritty blues\, Tom knows how to keep his audience on the edge of their seats.
URL:https://visitrichfield.com/event/live-music-tom-hunter-6/2025-04-20/
LOCATION:Fred Babcock VFW Post 5555\, 6715 Lake Shore Drive South\, Richfield\, MN\, 55423
CATEGORIES:music
ATTACH;FMTTYPE=image/jpeg:https://visitrichfield.com/wp-content/uploads/2023/01/Tom-Hunter.jpg
END:VEVENT
BEGIN:VEVENT
DTSTART;TZID=America/Chicago:20250419T183000
DTEND;TZID=America/Chicago:20250419T213000
DTSTAMP:20260424T210641
CREATED:20240612T160227Z
LAST-MODIFIED:20240612T160227Z
UID:11060-1745087400-1745098200@visitrichfield.com
SUMMARY:Live Music:  Blind Driver
DESCRIPTION:Classic rock sure to get you up and moving!
URL:https://visitrichfield.com/event/live-music-blind-driver/2025-04-19/
LOCATION:Fred Babcock VFW Post 5555\, 6715 Lake Shore Drive South\, Richfield\, MN\, 55423
CATEGORIES:music
ATTACH;FMTTYPE=image/webp:https://visitrichfield.com/wp-content/uploads/2024/06/Blind-Driver.webp
END:VEVENT
BEGIN:VEVENT
DTSTART;TZID=America/Chicago:20250418T180000
DTEND;TZID=America/Chicago:20250418T210000
DTSTAMP:20260424T210641
CREATED:20250311T152115Z
LAST-MODIFIED:20250311T152115Z
UID:11057-1744999200-1745010000@visitrichfield.com
SUMMARY:Live Music:  Tom Hunter
DESCRIPTION:Live music at the VFW!  Tom Hunter is a Minneapolis piano player and singer and a true jack-of-all-trades when it comes to music. He’s got the blues\, he’s got the standards\, he’s got the Americana\, and he’s even got a little bit of soul. But don’t let his musical prowess fool you – Tom is also one heck of a showman. Whether he’s belting out a classic ballad or getting down and dirty with some gritty blues\, Tom knows how to keep his audience on the edge of their seats.
URL:https://visitrichfield.com/event/live-music-tom-hunter-6/2025-04-18/
LOCATION:Fred Babcock VFW Post 5555\, 6715 Lake Shore Drive South\, Richfield\, MN\, 55423
CATEGORIES:music
ATTACH;FMTTYPE=image/jpeg:https://visitrichfield.com/wp-content/uploads/2023/01/Tom-Hunter.jpg
END:VEVENT
BEGIN:VEVENT
DTSTART;TZID=America/Chicago:20250411T180000
DTEND;TZID=America/Chicago:20250411T210000
DTSTAMP:20260424T210641
CREATED:20250311T152115Z
LAST-MODIFIED:20250311T152115Z
UID:11056-1744394400-1744405200@visitrichfield.com
SUMMARY:Live Music:  Tom Hunter
DESCRIPTION:Live music at the VFW!  Tom Hunter is a Minneapolis piano player and singer and a true jack-of-all-trades when it comes to music. He’s got the blues\, he’s got the standards\, he’s got the Americana\, and he’s even got a little bit of soul. But don’t let his musical prowess fool you – Tom is also one heck of a showman. Whether he’s belting out a classic ballad or getting down and dirty with some gritty blues\, Tom knows how to keep his audience on the edge of their seats.
URL:https://visitrichfield.com/event/live-music-tom-hunter-6/2025-04-11/
LOCATION:Fred Babcock VFW Post 5555\, 6715 Lake Shore Drive South\, Richfield\, MN\, 55423
CATEGORIES:music
ATTACH;FMTTYPE=image/jpeg:https://visitrichfield.com/wp-content/uploads/2023/01/Tom-Hunter.jpg
END:VEVENT
BEGIN:VEVENT
DTSTART;TZID=America/Chicago:20250328T180000
DTEND;TZID=America/Chicago:20250328T210000
DTSTAMP:20260424T210641
CREATED:20250311T152115Z
LAST-MODIFIED:20260301T215552Z
UID:11020-1743184800-1743195600@visitrichfield.com
SUMMARY:Live Music:  Tom Hunter
DESCRIPTION:Live music at the VFW!  Tom Hunter is a Minneapolis piano player and singer and a true jack-of-all-trades when it comes to music. He’s got the blues\, he’s got the standards\, he’s got the Americana\, and he’s even got a little bit of soul. But don’t let his musical prowess fool you – Tom is also one heck of a showman. Whether he’s belting out a classic ballad or getting down and dirty with some gritty blues\, Tom knows how to keep his audience on the edge of their seats.
URL:https://visitrichfield.com/event/live-music-tom-hunter-6/2025-03-28/
LOCATION:Fred Babcock VFW Post 5555\, 6715 Lake Shore Drive South\, Richfield\, MN\, 55423
CATEGORIES:music
ATTACH;FMTTYPE=image/jpeg:https://visitrichfield.com/wp-content/uploads/2023/01/Tom-Hunter.jpg
END:VEVENT
BEGIN:VEVENT
DTSTART;TZID=America/Chicago:20250316T170000
DTEND;TZID=America/Chicago:20250316T200000
DTSTAMP:20260424T210641
CREATED:20250311T152307Z
LAST-MODIFIED:20251108T181037Z
UID:11019-1742144400-1742155200@visitrichfield.com
SUMMARY:Live Music: The Jim Stairs Band
DESCRIPTION:Classic rock with the Jim Stairs Band!  Previously performed as Squishy Mud.
URL:https://visitrichfield.com/event/live-music-the-jim-stairs-band-2/2025-03-16/
LOCATION:Fred Babcock VFW Post 5555\, 6715 Lake Shore Drive South\, Richfield\, MN\, 55423
CATEGORIES:music
ATTACH;FMTTYPE=image/jpeg:https://visitrichfield.com/wp-content/uploads/2024/06/Jim-Stairs-Band.jpg
END:VEVENT
BEGIN:VEVENT
DTSTART;TZID=America/Chicago:20250315T183000
DTEND;TZID=America/Chicago:20250315T220000
DTSTAMP:20260424T210641
CREATED:20250311T151930Z
LAST-MODIFIED:20250311T151933Z
UID:11016-1742063400-1742076000@visitrichfield.com
SUMMARY:Live Music: Jonah and the Whales
DESCRIPTION:Welcome to the party!  Jonah and the Whales has been rockin’ the Twin Cities for so many years we’ve lost count! Grab your friends\, leave the work week behind\, and come join the most rockin’ party in town. If you’re ready to feel the motion of the ocean…dive in! \n 
URL:https://visitrichfield.com/event/live-music-jonah-and-the-whales-3/
LOCATION:Fred Babcock VFW Post 5555\, 6715 Lake Shore Drive South\, Richfield\, MN\, 55423
CATEGORIES:music
ATTACH;FMTTYPE=image/jpeg:https://visitrichfield.com/wp-content/uploads/2023/11/Jonah-and-the-Whales-1.jpg
END:VEVENT
BEGIN:VEVENT
DTSTART;TZID=America/Chicago:20250314T180000
DTEND;TZID=America/Chicago:20250314T210000
DTSTAMP:20260424T210641
CREATED:20250311T152115Z
LAST-MODIFIED:20260301T215530Z
UID:11018-1741975200-1741986000@visitrichfield.com
SUMMARY:Live Music:  Tom Hunter
DESCRIPTION:Live music at the VFW!  Tom Hunter is a Minneapolis piano player and singer and a true jack-of-all-trades when it comes to music. He’s got the blues\, he’s got the standards\, he’s got the Americana\, and he’s even got a little bit of soul. But don’t let his musical prowess fool you – Tom is also one heck of a showman. Whether he’s belting out a classic ballad or getting down and dirty with some gritty blues\, Tom knows how to keep his audience on the edge of their seats.
URL:https://visitrichfield.com/event/live-music-tom-hunter-6/2025-03-14/
LOCATION:Fred Babcock VFW Post 5555\, 6715 Lake Shore Drive South\, Richfield\, MN\, 55423
CATEGORIES:music
ATTACH;FMTTYPE=image/jpeg:https://visitrichfield.com/wp-content/uploads/2023/01/Tom-Hunter.jpg
END:VEVENT
BEGIN:VEVENT
DTSTART;TZID=America/Chicago:20250228T183000
DTEND;TZID=America/Chicago:20250228T223000
DTSTAMP:20260424T210641
CREATED:20250206T172024Z
LAST-MODIFIED:20260406T172358Z
UID:10985-1740767400-1740781800@visitrichfield.com
SUMMARY:Live Music:  Tailspin
DESCRIPTION:Tailspin is a rock and country band doing fun songs ranging from classic to current hits. Join us at the VFW! \n 
URL:https://visitrichfield.com/event/live-music-tailspin-4/2025-02-28/
LOCATION:Fred Babcock VFW Post 5555\, 6715 Lake Shore Drive South\, Richfield\, MN\, 55423
CATEGORIES:music
ATTACH;FMTTYPE=image/jpeg:https://visitrichfield.com/wp-content/uploads/2024/01/Tailspin.jpg
END:VEVENT
BEGIN:VEVENT
DTSTART;TZID=America/Chicago:20250223T180000
DTEND;TZID=America/Chicago:20250223T210000
DTSTAMP:20260424T210641
CREATED:20250206T172325Z
LAST-MODIFIED:20250206T172326Z
UID:10986-1740333600-1740344400@visitrichfield.com
SUMMARY:Live Music: Tom Hunter
DESCRIPTION:Live music at the VFW!  Tom Hunter is a Minneapolis piano player and singer and a true jack-of-all-trades when it comes to music. He’s got the blues\, he’s got the standards\, he’s got the Americana\, and he’s even got a little bit of soul. But don’t let his musical prowess fool you – Tom is also one heck of a showman. Whether he’s belting out a classic ballad or getting down and dirty with some gritty blues\, Tom knows how to keep his audience on the edge of their seats.
URL:https://visitrichfield.com/event/live-music-tom-hunter-5/
LOCATION:Fred Babcock VFW Post 5555\, 6715 Lake Shore Drive South\, Richfield\, MN\, 55423
CATEGORIES:music
ATTACH;FMTTYPE=image/jpeg:https://visitrichfield.com/wp-content/uploads/2023/01/Tom-Hunter.jpg
END:VEVENT
BEGIN:VEVENT
DTSTART;TZID=America/Chicago:20250222T190000
DTEND;TZID=America/Chicago:20250222T230000
DTSTAMP:20260424T210641
CREATED:20250206T171825Z
LAST-MODIFIED:20250206T171826Z
UID:10982-1740250800-1740265200@visitrichfield.com
SUMMARY:Live Music: The Sheet Rockers
DESCRIPTION:Come have some fun at the VFW!!  The Sheet Rockers are four experienced musicians playing together since 2011. Our goal is to have fun playing the music that we love\, from rock’n’roll to classic to modern\, as well as blues and country favorites! \n 
URL:https://visitrichfield.com/event/live-music-the-sheet-rockers/
LOCATION:Fred Babcock VFW Post 5555\, 6715 Lake Shore Drive South\, Richfield\, MN\, 55423
CATEGORIES:music
ATTACH;FMTTYPE=image/jpeg:https://visitrichfield.com/wp-content/uploads/2025/02/Sheet-Rockers-1.jpg
END:VEVENT
BEGIN:VEVENT
DTSTART;TZID=America/Chicago:20250208T183000
DTEND;TZID=America/Chicago:20250208T220000
DTSTAMP:20260424T210641
CREATED:20250206T171139Z
LAST-MODIFIED:20260104T185643Z
UID:10980-1739039400-1739052000@visitrichfield.com
SUMMARY:Live Music:  Hans and the Percolators
DESCRIPTION:Live music at the VFW!!  The Legendary Percolators Live Band is a variety band playing in the Twin Cities of Minneapolis and St. Paul\, Minnesota and surrounding metro area. We play rock\, country\, blues\, r&b\, lots of pretty ballads\, an occasional waltz or a polka\, and we sing nice harmonies.
URL:https://visitrichfield.com/event/live-music-hans-and-the-percolators/2025-02-08/
LOCATION:Fred Babcock VFW Post 5555\, 6715 Lake Shore Drive South\, Richfield\, MN\, 55423
CATEGORIES:music
ATTACH;FMTTYPE=image/png:https://visitrichfield.com/wp-content/uploads/2018/06/Percolators.png
END:VEVENT
BEGIN:VEVENT
DTSTART;TZID=America/Chicago:20250207T190000
DTEND;TZID=America/Chicago:20250207T220000
DTSTAMP:20260424T210641
CREATED:20250206T173002Z
LAST-MODIFIED:20251214T180622Z
UID:10987-1738954800-1738965600@visitrichfield.com
SUMMARY:Live Music:  The Rolling Stoners
DESCRIPTION:Live music at the VFW! The Rolling Stones are the greatest rock band of all time\, and the Rolling Stoners play their songs\, try to own it\, and humbly attempt to perform in a fashion that’s as good as The Stones’ early club years. We truly hope you enjoy the show!
URL:https://visitrichfield.com/event/live-music-the-rolling-stoners/2025-02-07/
LOCATION:Fred Babcock VFW Post 5555\, 6715 Lake Shore Drive South\, Richfield\, MN\, 55423
CATEGORIES:music
ATTACH;FMTTYPE=image/jpeg:https://visitrichfield.com/wp-content/uploads/2025/02/Rolling-Stoners.jpg
END:VEVENT
BEGIN:VEVENT
DTSTART;TZID=America/Chicago:20241130T183000
DTEND;TZID=America/Chicago:20241130T213000
DTSTAMP:20260424T210641
CREATED:20241104T185021Z
LAST-MODIFIED:20241104T185039Z
UID:10816-1732991400-1733002200@visitrichfield.com
SUMMARY:Live Music: Jonah and the Whales
DESCRIPTION:Welcome to the party!  Jonah and the Whales has been rockin’ the Twin Cities for so many years we’ve lost count! Grab your friends\, leave the work week behind\, and come join the most rockin’ party in town. If you’re ready to feel the motion of the ocean…dive in!
URL:https://visitrichfield.com/event/live-music/
LOCATION:Fred Babcock VFW Post 5555\, 6715 Lake Shore Drive South\, Richfield\, MN\, 55423
CATEGORIES:music
ATTACH;FMTTYPE=image/jpeg:https://visitrichfield.com/wp-content/uploads/2023/11/Jonah-and-the-Whales-1.jpg
END:VEVENT
BEGIN:VEVENT
DTSTART;TZID=America/Chicago:20241129T183000
DTEND;TZID=America/Chicago:20241129T213000
DTSTAMP:20260424T210641
CREATED:20241104T184837Z
LAST-MODIFIED:20241104T184837Z
UID:10813-1732905000-1732915800@visitrichfield.com
SUMMARY:Live Music: Lucky Lizzy Band
DESCRIPTION:The Lucky Lizzy Band is an eclectic musical combination of rock\, blues\, and soul\, with a bit of jazz tossed in. Our energy\, tremendous music and fun leave fans wanting more!
URL:https://visitrichfield.com/event/live-music-lucky-lizzy-band/
LOCATION:Fred Babcock VFW Post 5555\, 6715 Lake Shore Drive South\, Richfield\, MN\, 55423
CATEGORIES:music
ATTACH;FMTTYPE=image/jpeg:https://visitrichfield.com/wp-content/uploads/2024/11/Lucky-Lizzy.jpg
END:VEVENT
BEGIN:VEVENT
DTSTART;TZID=America/Chicago:20241123T183000
DTEND;TZID=America/Chicago:20241123T223000
DTSTAMP:20260424T210641
CREATED:20241104T184515Z
LAST-MODIFIED:20241104T184516Z
UID:10811-1732386600-1732401000@visitrichfield.com
SUMMARY:Live Music: Tailspin
DESCRIPTION:Tailspin is a rock and country band doing fun songs ranging from classic to current hits. Join us at the VFW!
URL:https://visitrichfield.com/event/live-music-tailspin-3/
LOCATION:Fred Babcock VFW Post 5555\, 6715 Lake Shore Drive South\, Richfield\, MN\, 55423
CATEGORIES:music
ATTACH;FMTTYPE=image/jpeg:https://visitrichfield.com/wp-content/uploads/2024/01/Tailspin.jpg
END:VEVENT
BEGIN:VEVENT
DTSTART;TZID=America/Chicago:20241115T183000
DTEND;TZID=America/Chicago:20241115T213000
DTSTAMP:20260424T210641
CREATED:20241104T183931Z
LAST-MODIFIED:20250904T155435Z
UID:10807-1731695400-1731706200@visitrichfield.com
SUMMARY:Live Music:  Inside Straight
DESCRIPTION:The Inside Straight Band comes to Richfield!!  Inside Straight\, a popular band with Twin Cities and regional club audiences\, plays blues and blues/rock tempered with solid jazz\, funk\, R&B\, old rock’n’roll\, and some country influences…a sound unique to Inside Straight that is truly a collection of its members’ experiences.  Come on down and see us!
URL:https://visitrichfield.com/event/live-music-inside-straight-2/2024-11-15/
LOCATION:Fred Babcock VFW Post 5555\, 6715 Lake Shore Drive South\, Richfield\, MN\, 55423
CATEGORIES:music
ATTACH;FMTTYPE=image/jpeg:https://visitrichfield.com/wp-content/uploads/2024/07/Inside-Straight.jpg
END:VEVENT
BEGIN:VEVENT
DTSTART;TZID=America/Chicago:20241110T180000
DTEND;TZID=America/Chicago:20241110T210000
DTSTAMP:20260424T210641
CREATED:20241104T183739Z
LAST-MODIFIED:20241104T183740Z
UID:10804-1731261600-1731272400@visitrichfield.com
SUMMARY:Live Music:  Roy Holdren and Scott Tait
DESCRIPTION:Roy Holdren and Scott Tait will be appearing at the Richfield VFW! \nRoy has written and recorded five albums and is excited about his latest project\, “Once Upon a Time in a Barroom.” This concept album is a tribute to the now-closed Minneapolis music hotspot\, Lee’s Liquor Bar\, where Roy played in various house bands for several years. Based on his experiences at that legendary venue\, the album was released on May 26\, 2023. \nWith his wealth of musical talent and years of experience\, Roy Holdren has become a fixture in the Minneapolis music scene. He continues to write\, perform\, and record music\, always seeking to connect with audiences and share his love of music.
URL:https://visitrichfield.com/event/live-music-roy-holdren-and-scott-tait/
LOCATION:Fred Babcock VFW Post 5555\, 6715 Lake Shore Drive South\, Richfield\, MN\, 55423
CATEGORIES:music
ATTACH;FMTTYPE=image/jpeg:https://visitrichfield.com/wp-content/uploads/2024/11/Roy-Holdren.jpg
END:VEVENT
BEGIN:VEVENT
DTSTART;TZID=America/Chicago:20241109T183000
DTEND;TZID=America/Chicago:20241109T223000
DTSTAMP:20260424T210641
CREATED:20241104T183132Z
LAST-MODIFIED:20260301T215956Z
UID:10801-1731177000-1731191400@visitrichfield.com
SUMMARY:Live Music:  A Hard Day's Night
DESCRIPTION:High energy\, authentic replication of a Beatles performance considered to be one of the top Beatles tribute shows in the nation. Endorsed by Joey Molland of Badfinger\, and Grammy-award-winning artist Rick Derringer
URL:https://visitrichfield.com/event/live-music-a-hard-days-night/2024-11-09/
LOCATION:Fred Babcock VFW Post 5555\, 6715 Lake Shore Drive South\, Richfield\, MN\, 55423
CATEGORIES:music
ATTACH;FMTTYPE=image/jpeg:https://visitrichfield.com/wp-content/uploads/2024/11/Hard-Days-Night.jpg
END:VEVENT
BEGIN:VEVENT
DTSTART;TZID=America/Chicago:20241102T190000
DTEND;TZID=America/Chicago:20241102T230000
DTSTAMP:20260424T210641
CREATED:20241104T181817Z
LAST-MODIFIED:20251108T181420Z
UID:10796-1730574000-1730588400@visitrichfield.com
SUMMARY:Live Music:  Austin Healy
DESCRIPTION:Southern Rock done right!!  Come see them live and bring your dancing shoes!
URL:https://visitrichfield.com/event/live-music-austin-healy-2/2024-11-02/
LOCATION:Fred Babcock VFW Post 5555\, 6715 Lake Shore Drive South\, Richfield\, MN\, 55423
CATEGORIES:music
ATTACH;FMTTYPE=image/jpeg:https://visitrichfield.com/wp-content/uploads/2023/11/Austin-Healy.jpg
END:VEVENT
BEGIN:VEVENT
DTSTART;TZID=America/Chicago:20241025T183000
DTEND;TZID=America/Chicago:20241025T210000
DTSTAMP:20260424T210641
CREATED:20240731T212548Z
LAST-MODIFIED:20250922T172547Z
UID:10466-1729881000-1729890000@visitrichfield.com
SUMMARY:Live Music:  The Hi Hats
DESCRIPTION:Live music at the Richfield VFW.  Hit the dance floor with the High Hats!
URL:https://visitrichfield.com/event/live-music-the-hi-hats-3/2024-10-25/
LOCATION:Fred Babcock VFW Post 5555\, 6715 Lake Shore Drive South\, Richfield\, MN\, 55423
CATEGORIES:music
ATTACH;FMTTYPE=image/jpeg:https://visitrichfield.com/wp-content/uploads/2022/10/Hi-Hats-2.jpg
END:VEVENT
BEGIN:VEVENT
DTSTART;TZID=America/Chicago:20240831T183000
DTEND;TZID=America/Chicago:20240831T223000
DTSTAMP:20260424T210641
CREATED:20240731T215807Z
LAST-MODIFIED:20240731T215808Z
UID:10482-1725129000-1725143400@visitrichfield.com
SUMMARY:Live Music:  Crossfire Band
DESCRIPTION:The Crossfire Band is coming to Richfield!  Crossfire is a four-piece musical group of talented and versatile musicians\, playing a wide variety of great dance music. They can’t wait for you to dance the night away!
URL:https://visitrichfield.com/event/live-music-crossfire-band/
LOCATION:Fred Babcock VFW Post 5555\, 6715 Lake Shore Drive South\, Richfield\, MN\, 55423
CATEGORIES:music
ATTACH;FMTTYPE=image/jpeg:https://visitrichfield.com/wp-content/uploads/2024/07/Crossfire.jpg
END:VEVENT
BEGIN:VEVENT
DTSTART;TZID=America/Chicago:20240823T190000
DTEND;TZID=America/Chicago:20240823T230000
DTSTAMP:20260424T210641
CREATED:20240731T214924Z
LAST-MODIFIED:20240731T214924Z
UID:10480-1724439600-1724454000@visitrichfield.com
SUMMARY:Live Music:  Tailspin
DESCRIPTION:l \nTailspin is a rock and country band doing fun songs ranging from classic to current hits. Join us at the VFW!
URL:https://visitrichfield.com/event/live-music-tailspin-2/
LOCATION:Fred Babcock VFW Post 5555\, 6715 Lake Shore Drive South\, Richfield\, MN\, 55423
CATEGORIES:music
ATTACH;FMTTYPE=image/jpeg:https://visitrichfield.com/wp-content/uploads/2024/01/Tailspin.jpg
END:VEVENT
BEGIN:VEVENT
DTSTART;TZID=America/Chicago:20240818T170000
DTEND;TZID=America/Chicago:20240818T200000
DTSTAMP:20260424T210641
CREATED:20240731T214737Z
LAST-MODIFIED:20260301T215235Z
UID:10477-1724000400-1724011200@visitrichfield.com
SUMMARY:Live Music:  Phil Kitze
DESCRIPTION:Phil Kitze comes to Richfield!  Phil does a great acoustic show featuring vocals\, acoustic and slide guitar\, and harmonica in many styles including blues\, rock\, folk\, country\, and original songs.  Come on down and see him! \n 
URL:https://visitrichfield.com/event/live-music-phil-kitze/2024-08-18/
LOCATION:Fred Babcock VFW Post 5555\, 6715 Lake Shore Drive South\, Richfield\, MN\, 55423
CATEGORIES:music
ATTACH;FMTTYPE=image/jpeg:https://visitrichfield.com/wp-content/uploads/2024/07/Phil-Kitze.jpg
END:VEVENT
BEGIN:VEVENT
DTSTART;TZID=America/Chicago:20240816T190000
DTEND;TZID=America/Chicago:20240816T230000
DTSTAMP:20260424T210641
CREATED:20240731T214148Z
LAST-MODIFIED:20240731T214148Z
UID:10474-1723834800-1723849200@visitrichfield.com
SUMMARY:Live Music:  Inside Straight
DESCRIPTION:The Inside Straight Band comes to Richfield!!  Inside Straight\, a popular band with Twin Cities and regional club audiences\, plays blues and blues/rock tempered with solid jazz\, funk\, R&B\, old rock’n’roll\, and some country influences…a sound unique to Inside Straight that is truly a collection of its members’ experiences.  Come on down and see us!
URL:https://visitrichfield.com/event/live-music-inside-straight/
LOCATION:Fred Babcock VFW Post 5555\, 6715 Lake Shore Drive South\, Richfield\, MN\, 55423
CATEGORIES:music
ATTACH;FMTTYPE=image/jpeg:https://visitrichfield.com/wp-content/uploads/2024/07/Inside-Straight.jpg
END:VEVENT
BEGIN:VEVENT
DTSTART;TZID=America/Chicago:20240811T170000
DTEND;TZID=America/Chicago:20240811T210000
DTSTAMP:20260424T210641
CREATED:20240731T213348Z
LAST-MODIFIED:20240731T213348Z
UID:10472-1723395600-1723410000@visitrichfield.com
SUMMARY:Live Music:  The Jim Stairs Band
DESCRIPTION:Classic rock with the Jim Stairs Band!  Previously performed as Squishy Mud.
URL:https://visitrichfield.com/event/live-music-the-jim-stairs-band/
LOCATION:Fred Babcock VFW Post 5555\, 6715 Lake Shore Drive South\, Richfield\, MN\, 55423
CATEGORIES:music
ATTACH;FMTTYPE=image/jpeg:https://visitrichfield.com/wp-content/uploads/2024/06/Jim-Stairs-Band.jpg
END:VEVENT
BEGIN:VEVENT
DTSTART;TZID=America/Chicago:20240810T183000
DTEND;TZID=America/Chicago:20240810T223000
DTSTAMP:20260424T210641
CREATED:20240731T213038Z
LAST-MODIFIED:20240731T213038Z
UID:10470-1723314600-1723329000@visitrichfield.com
SUMMARY:Live Music:  No Limits\, the B-side Band
DESCRIPTION:Playing the hits that will keep you dancing all night from the 70s\, 80s and today! No cover at the Fred Babcock VFW post in Richfield!
URL:https://visitrichfield.com/event/live-music-no-limits-the-b-side-band-2/
LOCATION:Fred Babcock VFW Post 5555\, 6715 Lake Shore Drive South\, Richfield\, MN\, 55423
CATEGORIES:music
ATTACH;FMTTYPE=image/jpeg:https://visitrichfield.com/wp-content/uploads/2023/05/No-Limits.jpg
END:VEVENT
BEGIN:VEVENT
DTSTART;TZID=America/Chicago:20240629T180000
DTEND;TZID=America/Chicago:20240629T200000
DTSTAMP:20260424T210641
CREATED:20240612T161744Z
LAST-MODIFIED:20260301T215638Z
UID:10343-1719684000-1719691200@visitrichfield.com
SUMMARY:Live Music:  Pete Kavanaugh Group
DESCRIPTION:Raw\, gritty\, blues rock at the VFW. \n 
URL:https://visitrichfield.com/event/live-music-pete-kavanaugh-group/2024-06-29/
LOCATION:Fred Babcock VFW Post 5555\, 6715 Lake Shore Drive South\, Richfield\, MN\, 55423
CATEGORIES:music
ATTACH;FMTTYPE=image/webp:https://visitrichfield.com/wp-content/uploads/2022/10/Pete-Kavanaugh-Music.webp
END:VEVENT
BEGIN:VEVENT
DTSTART;TZID=America/Chicago:20240628T180000
DTEND;TZID=America/Chicago:20240628T210000
DTSTAMP:20260424T210641
CREATED:20240612T161221Z
LAST-MODIFIED:20240612T161222Z
UID:10340-1719597600-1719608400@visitrichfield.com
SUMMARY:Live Music:  Jim Stairs Band
DESCRIPTION:  \n \nClassic rock with the Jim Stairs Band!  Previously performed as Squishy Mud.
URL:https://visitrichfield.com/event/live-music-jim-stairs-band/
LOCATION:Fred Babcock VFW Post 5555\, 6715 Lake Shore Drive South\, Richfield\, MN\, 55423
CATEGORIES:music
ATTACH;FMTTYPE=image/jpeg:https://visitrichfield.com/wp-content/uploads/2024/06/Jim-Stairs-Band.jpg
END:VEVENT
BEGIN:VEVENT
DTSTART;TZID=America/Chicago:20240615T190000
DTEND;TZID=America/Chicago:20240615T220000
DTSTAMP:20260424T210641
CREATED:20240612T160227Z
LAST-MODIFIED:20250402T155724Z
UID:10337-1718478000-1718488800@visitrichfield.com
SUMMARY:Live Music:  Blind Driver
DESCRIPTION:Classic rock sure to get you up and moving!
URL:https://visitrichfield.com/event/live-music-blind-driver/2024-06-15/
LOCATION:Fred Babcock VFW Post 5555\, 6715 Lake Shore Drive South\, Richfield\, MN\, 55423
CATEGORIES:music
ATTACH;FMTTYPE=image/webp:https://visitrichfield.com/wp-content/uploads/2024/06/Blind-Driver.webp
END:VEVENT
END:VCALENDAR