
BEGIN:VCALENDAR
VERSION:2.0
PRODID:-//Visit Richfield - ECPv6.15.20//NONSGML v1.0//EN
CALSCALE:GREGORIAN
METHOD:PUBLISH
X-ORIGINAL-URL:https://visitrichfield.com
X-WR-CALDESC:Events for Visit Richfield
REFRESH-INTERVAL;VALUE=DURATION:PT1H
X-Robots-Tag:noindex
X-PUBLISHED-TTL:PT1H
BEGIN:VTIMEZONE
TZID:America/Chicago
BEGIN:DAYLIGHT
TZOFFSETFROM:-0600
TZOFFSETTO:-0500
TZNAME:CDT
DTSTART:20210314T080000
END:DAYLIGHT
BEGIN:STANDARD
TZOFFSETFROM:-0500
TZOFFSETTO:-0600
TZNAME:CST
DTSTART:20211107T070000
END:STANDARD
BEGIN:DAYLIGHT
TZOFFSETFROM:-0600
TZOFFSETTO:-0500
TZNAME:CDT
DTSTART:20220313T080000
END:DAYLIGHT
BEGIN:STANDARD
TZOFFSETFROM:-0500
TZOFFSETTO:-0600
TZNAME:CST
DTSTART:20221106T070000
END:STANDARD
BEGIN:DAYLIGHT
TZOFFSETFROM:-0600
TZOFFSETTO:-0500
TZNAME:CDT
DTSTART:20230312T080000
END:DAYLIGHT
BEGIN:STANDARD
TZOFFSETFROM:-0500
TZOFFSETTO:-0600
TZNAME:CST
DTSTART:20231105T070000
END:STANDARD
BEGIN:DAYLIGHT
TZOFFSETFROM:-0600
TZOFFSETTO:-0500
TZNAME:CDT
DTSTART:20240310T080000
END:DAYLIGHT
BEGIN:STANDARD
TZOFFSETFROM:-0500
TZOFFSETTO:-0600
TZNAME:CST
DTSTART:20241103T070000
END:STANDARD
BEGIN:DAYLIGHT
TZOFFSETFROM:-0600
TZOFFSETTO:-0500
TZNAME:CDT
DTSTART:20250309T080000
END:DAYLIGHT
BEGIN:STANDARD
TZOFFSETFROM:-0500
TZOFFSETTO:-0600
TZNAME:CST
DTSTART:20251102T070000
END:STANDARD
END:VTIMEZONE
BEGIN:VTIMEZONE
TZID:UTC
BEGIN:STANDARD
TZOFFSETFROM:+0000
TZOFFSETTO:+0000
TZNAME:UTC
DTSTART:20200101T000000
END:STANDARD
END:VTIMEZONE
BEGIN:VEVENT
DTSTART;TZID=America/Chicago:20241027T170000
DTEND;TZID=America/Chicago:20241027T181500
DTSTAMP:20260422T042712
CREATED:20240926T172100Z
LAST-MODIFIED:20260120T165525Z
UID:10677-1730048400-1730052900@visitrichfield.com
SUMMARY:Cosmic Ice Skating
DESCRIPTION:Music! Lights!  Concessions!  Ice skating\, but with an extra twist.  $6 per person; rental skates $4.
URL:https://visitrichfield.com/event/cosmic-ice-skating/2024-10-27/
LOCATION:Richfield Ice Arena
CATEGORIES:active
ATTACH;FMTTYPE=image/jpeg:https://visitrichfield.com/wp-content/uploads/2023/11/Cosmic-ice-skating.jpg
END:VEVENT
BEGIN:VEVENT
DTSTART;TZID=America/Chicago:20241012T100000
DTEND;TZID=America/Chicago:20241012T150000
DTSTAMP:20260422T042712
CREATED:20240926T160722Z
LAST-MODIFIED:20240926T160723Z
UID:10642-1728727200-1728745200@visitrichfield.com
SUMMARY:Paddles & Stones:  Curling and Pickleball for Wood Lake!
DESCRIPTION:Support Wood Lake Nature Center and join in on a fun day of your choice of sports at the Richfield Ice Arena:  Curling or pickleball!!  Beginners are welcome! The event will include food and beverages for sale from NorthStar Tavern\, a silent auction\, and prizes for the top performers in each sport and category. Bring your cheering section! Spectators pay just $5 at the door. \nCURLING TOURNAMENT:  The Richfield Curling Club will be on site to help beginners with the basics of curling. Participants play a tournament split into two divisions: beginner and intermedia. 16 teams of four people each will compete. Register as an individual and have your teammates register as well. You’ll be asked to indicate their names OR we will place you with a team. \nINDOOR PICKLEBALL TOURNAMENT:  When the ice is out for the season on Rink 1\, it’s the perfect time for some indoor pickleball! 16 pairs will compete in three categories: male\, female\, or co-ed. Sign up as individuals and indicate your partner’s name OR we will place you with a partner. Beginners welcome! \n$50 per play per sport; pre-registration required at richfieldmn.gov/register (click Activities and search “paddles”).
URL:https://visitrichfield.com/event/paddles-stones-curling-and-pickleball-for-wood-lake/
LOCATION:Richfield Ice Arena
CATEGORIES:active,Community Events
ATTACH;FMTTYPE=image/jpeg:https://visitrichfield.com/wp-content/uploads/2024/09/Paddles.jpg
END:VEVENT
BEGIN:VEVENT
DTSTART;TZID=America/Chicago:20240903T170000
DTEND;TZID=America/Chicago:20240903T181500
DTSTAMP:20260422T042712
CREATED:20240827T170344Z
LAST-MODIFIED:20240827T170405Z
UID:10524-1725382800-1725387300@visitrichfield.com
SUMMARY:Open Skate season starts!
DESCRIPTION:Open skating season starts at the Richfield Ice Arena!!  Open skating runs at the following times: \n\nMonday-Thursday 12 p.m. to 1:15 p.m.\nWednesdays 6:30 p.m. to 8 p.m.\nBeginning November 3\, Sundays from 5 p.m. to 6:15 p.m.\n\nSkate rental is $4.00 per pair; open skating admission $6.00 (10-admission tickets available for $50!).
URL:https://visitrichfield.com/event/open-skate-season-starts/
LOCATION:Richfield Ice Arena
CATEGORIES:active
ATTACH;FMTTYPE=image/jpeg:https://visitrichfield.com/wp-content/uploads/2022/12/Open-skate.jpg
END:VEVENT
BEGIN:VEVENT
DTSTART;TZID=America/Chicago:20240519T170000
DTEND;TZID=America/Chicago:20240519T181500
DTSTAMP:20260422T042712
CREATED:20221231T213106Z
LAST-MODIFIED:20230903T220104Z
UID:8948-1716138000-1716142500@visitrichfield.com
SUMMARY:Open Skating
DESCRIPTION:Open skating at Richfield Ice Arena!  Every Sunday 5-6:15 p.m.\, and most weekdays 12-1:30 p.m. Skating $6 per person; skate rental $4. Buy 10 sessions for only $50!
URL:https://visitrichfield.com/event/open-skating-5-2023-09-10/2024-05-19/
LOCATION:Richfield Ice Arena
CATEGORIES:active,family
ATTACH;FMTTYPE=image/jpeg:https://visitrichfield.com/wp-content/uploads/2022/12/Open-skate.jpg
END:VEVENT
BEGIN:VEVENT
DTSTART;TZID=America/Chicago:20240512T170000
DTEND;TZID=America/Chicago:20240512T181500
DTSTAMP:20260422T042712
CREATED:20221231T213106Z
LAST-MODIFIED:20230903T220103Z
UID:8947-1715533200-1715537700@visitrichfield.com
SUMMARY:Open Skating
DESCRIPTION:Open skating at Richfield Ice Arena!  Every Sunday 5-6:15 p.m.\, and most weekdays 12-1:30 p.m. Skating $6 per person; skate rental $4. Buy 10 sessions for only $50!
URL:https://visitrichfield.com/event/open-skating-5-2023-09-10/2024-05-12/
LOCATION:Richfield Ice Arena
CATEGORIES:active,family
ATTACH;FMTTYPE=image/jpeg:https://visitrichfield.com/wp-content/uploads/2022/12/Open-skate.jpg
END:VEVENT
BEGIN:VEVENT
DTSTART;TZID=America/Chicago:20240505T170000
DTEND;TZID=America/Chicago:20240505T181500
DTSTAMP:20260422T042712
CREATED:20221231T213106Z
LAST-MODIFIED:20230903T220103Z
UID:8946-1714928400-1714932900@visitrichfield.com
SUMMARY:Open Skating
DESCRIPTION:Open skating at Richfield Ice Arena!  Every Sunday 5-6:15 p.m.\, and most weekdays 12-1:30 p.m. Skating $6 per person; skate rental $4. Buy 10 sessions for only $50!
URL:https://visitrichfield.com/event/open-skating-5-2023-09-10/2024-05-05/
LOCATION:Richfield Ice Arena
CATEGORIES:active,family
ATTACH;FMTTYPE=image/jpeg:https://visitrichfield.com/wp-content/uploads/2022/12/Open-skate.jpg
END:VEVENT
BEGIN:VEVENT
DTSTART;TZID=America/Chicago:20240428T170000
DTEND;TZID=America/Chicago:20240428T181500
DTSTAMP:20260422T042712
CREATED:20221231T213106Z
LAST-MODIFIED:20230903T220101Z
UID:8945-1714323600-1714328100@visitrichfield.com
SUMMARY:Open Skating
DESCRIPTION:Open skating at Richfield Ice Arena!  Every Sunday 5-6:15 p.m.\, and most weekdays 12-1:30 p.m. Skating $6 per person; skate rental $4. Buy 10 sessions for only $50!
URL:https://visitrichfield.com/event/open-skating-5-2023-09-10/2024-04-28/
LOCATION:Richfield Ice Arena
CATEGORIES:active,family
ATTACH;FMTTYPE=image/jpeg:https://visitrichfield.com/wp-content/uploads/2022/12/Open-skate.jpg
END:VEVENT
BEGIN:VEVENT
DTSTART;TZID=America/Chicago:20240421T170000
DTEND;TZID=America/Chicago:20240421T181500
DTSTAMP:20260422T042712
CREATED:20221231T213106Z
LAST-MODIFIED:20230903T220100Z
UID:8944-1713718800-1713723300@visitrichfield.com
SUMMARY:Open Skating
DESCRIPTION:Open skating at Richfield Ice Arena!  Every Sunday 5-6:15 p.m.\, and most weekdays 12-1:30 p.m. Skating $6 per person; skate rental $4. Buy 10 sessions for only $50!
URL:https://visitrichfield.com/event/open-skating-5-2023-09-10/2024-04-21/
LOCATION:Richfield Ice Arena
CATEGORIES:active,family
ATTACH;FMTTYPE=image/jpeg:https://visitrichfield.com/wp-content/uploads/2022/12/Open-skate.jpg
END:VEVENT
BEGIN:VEVENT
DTSTART;TZID=America/Chicago:20240204T170000
DTEND;TZID=America/Chicago:20240204T181500
DTSTAMP:20260422T042712
CREATED:20221231T213106Z
LAST-MODIFIED:20240128T191837Z
UID:8933-1707066000-1707070500@visitrichfield.com
SUMMARY:Cosmic Skating
DESCRIPTION:Richfield Ice Arena presents Cosmic Skating!  Enjoy the music\, concessions\, and lights! Skating $6 per person; skate rental $4.
URL:https://visitrichfield.com/event/open-skating-5-2023-09-10-2024-02-04/
LOCATION:Richfield Ice Arena
CATEGORIES:active,family
ATTACH;FMTTYPE=image/jpeg:https://visitrichfield.com/wp-content/uploads/2023/11/Cosmic-ice-skating.jpg
END:VEVENT
BEGIN:VEVENT
DTSTART;TZID=America/Chicago:20240101T130000
DTEND;TZID=America/Chicago:20240101T143000
DTSTAMP:20260422T042712
CREATED:20231230T202739Z
LAST-MODIFIED:20231230T221312Z
UID:9372-1704114000-1704119400@visitrichfield.com
SUMMARY:New Year's Day Skating Party
DESCRIPTION:Glide into the New Year at Richfield Ice Arena’s New Year’s Day Skating Party. $6.00/person; includes prizes\, giveaways\, refreshments\, and skating.  Limited skate rental available for $4.00.
URL:https://visitrichfield.com/event/new-years-day-skating-party/
LOCATION:Richfield Ice Arena
CATEGORIES:active
ATTACH;FMTTYPE=image/jpeg:https://visitrichfield.com/wp-content/uploads/2017/12/ice-skate.jpg
END:VEVENT
BEGIN:VEVENT
DTSTART;TZID=America/Chicago:20231210T170000
DTEND;TZID=America/Chicago:20231210T181500
DTSTAMP:20260422T042712
CREATED:20231207T212829Z
LAST-MODIFIED:20231207T212829Z
UID:9364-1702227600-1702232100@visitrichfield.com
SUMMARY:Skate with Santa
DESCRIPTION:Come skate with Santa at the Richfield Ice Arena!  He can’t wait to see you!
URL:https://visitrichfield.com/event/skate-with-santa-2/
LOCATION:Richfield Ice Arena
CATEGORIES:active,Christmas,kids
ATTACH;FMTTYPE=image/jpeg:https://visitrichfield.com/wp-content/uploads/2023/12/Skate-with-Santa.jpg
END:VEVENT
BEGIN:VEVENT
DTSTART;TZID=America/Chicago:20231119T170000
DTEND;TZID=America/Chicago:20231119T181500
DTSTAMP:20260422T042712
CREATED:20231112T205612Z
LAST-MODIFIED:20231112T205959Z
UID:9301-1700413200-1700417700@visitrichfield.com
SUMMARY:Cosmic Skating
DESCRIPTION:Music!  Lights!  Concessions!  Be at the Richfield Ice Arena for a truly cosmic experience!
URL:https://visitrichfield.com/event/9301/
LOCATION:Richfield Ice Arena
CATEGORIES:active
ATTACH;FMTTYPE=image/jpeg:https://visitrichfield.com/wp-content/uploads/2023/11/Cosmic-ice-skating.jpg
END:VEVENT
BEGIN:VEVENT
DTSTART;TZID=America/Chicago:20231111T154500
DTEND;TZID=America/Chicago:20231111T174500
DTSTAMP:20260422T042712
CREATED:20231112T194742Z
LAST-MODIFIED:20231112T194742Z
UID:9262-1699717500-1699724700@visitrichfield.com
SUMMARY:Free Skate with Team HF
DESCRIPTION:Hendrickson Foundation is a local nonprofit with a mission that supports diversified hockey and promoting inclusivity in the game of hockey. In honor of our veterans and Give to the Max Day\, we’re bringing the community together for a little skating event and some good camaraderie. Open to ALL! \nHelmets required for all on-ice participants; please bring your own.  We will have signed waivers onsite to be signed by participants and/or guardians of minors.
URL:https://visitrichfield.com/event/free-skate-with-team-hf/
LOCATION:Richfield Ice Arena
CATEGORIES:active,kids
ATTACH;FMTTYPE=image/jpeg:https://visitrichfield.com/wp-content/uploads/2023/11/Free-Skate-Nov-11.jpg
END:VEVENT
BEGIN:VEVENT
DTSTART;TZID=America/Chicago:20231001T170000
DTEND;TZID=America/Chicago:20231001T181500
DTSTAMP:20260422T042712
CREATED:20221231T213106Z
LAST-MODIFIED:20230903T220026Z
UID:6701-1696179600-1696184100@visitrichfield.com
SUMMARY:Open Skating
DESCRIPTION:Open skating at Richfield Ice Arena!  Every Sunday 5-6:15 p.m.\, and most weekdays 12-1:30 p.m. Skating $6 per person; skate rental $4. Buy 10 sessions for only $50!
URL:https://visitrichfield.com/event/open-skating-5-2023-09-10/2023-10-01/
LOCATION:Richfield Ice Arena
CATEGORIES:active,family
ATTACH;FMTTYPE=image/jpeg:https://visitrichfield.com/wp-content/uploads/2022/12/Open-skate.jpg
END:VEVENT
BEGIN:VEVENT
DTSTART;TZID=America/Chicago:20230905T120000
DTEND;TZID=America/Chicago:20230905T133000
DTSTAMP:20260422T042712
CREATED:20230903T215205Z
LAST-MODIFIED:20230903T215205Z
UID:8636-1693915200-1693920600@visitrichfield.com
SUMMARY:Indoor Walking
DESCRIPTION:Looking for a safe place to walk indoors this winter where you won’t have to worry about cold weather\, slipping on ice\, etc…? Walk around the upper concourse of the Richfield Ice Arena!  Rink 1 will be available to walkers Mondays through Thursdays starting September 5\, 12 p.m. to 1:30 p.m. \nWalkers must be able to use the stairs to access the concourse. Free; 7.5 laps around the rink equals one mile.
URL:https://visitrichfield.com/event/indoor-walking/2023-09-05/
LOCATION:Richfield Ice Arena
CATEGORIES:active
ATTACH;FMTTYPE=image/webp:https://visitrichfield.com/wp-content/uploads/2023/09/Indoor-walking.webp
END:VEVENT
BEGIN:VEVENT
DTSTART;TZID=America/Chicago:20230905T120000
DTEND;TZID=America/Chicago:20230905T133000
DTSTAMP:20260422T042712
CREATED:20230903T213542Z
LAST-MODIFIED:20230903T213542Z
UID:8514-1693915200-1693920600@visitrichfield.com
SUMMARY:Open Skating
DESCRIPTION:Open skating at Richfield Ice Arena!  Every Sunday 5-6:15 p.m.\, and most weekdays 12-1:30 p.m. Skating $6 per person; skate rental $4. Buy 10 sessions for only $50!
URL:https://visitrichfield.com/event/open-skating/2023-09-05/
LOCATION:Richfield Ice Arena
CATEGORIES:active,family
END:VEVENT
BEGIN:VEVENT
DTSTART;TZID=America/Chicago:20230311T180000
DTEND;TZID=America/Chicago:20230311T200000
DTSTAMP:20260422T042712
CREATED:20230225T022142Z
LAST-MODIFIED:20230225T022206Z
UID:6301-1678557600-1678564800@visitrichfield.com
SUMMARY:Minnesota Whitecaps vs. Connecticut Whale
DESCRIPTION:The Minnesota Whitecaps play their last homestand of the season! Watch them face off against the Connecticut Whale; Saturday’s game is Shut Out Hate Night featuring the Mosaic Hockey Collective; and Sunday is Fan Appreciation Day!  Click here for tickets.
URL:https://visitrichfield.com/event/minnesota-whitecaps-vs-connecticut-whale/2023-03-11/
LOCATION:Richfield Ice Arena
CATEGORIES:sports
ATTACH;FMTTYPE=image/jpeg:https://visitrichfield.com/wp-content/uploads/2023/02/298524061_10160206689214846_5734333572204991361_n.jpg
END:VEVENT
BEGIN:VEVENT
DTSTART;TZID=America/Chicago:20230225T180000
DTEND;TZID=America/Chicago:20230225T200000
DTSTAMP:20260422T042712
CREATED:20230128T202320Z
LAST-MODIFIED:20230128T202320Z
UID:6271-1677348000-1677355200@visitrichfield.com
SUMMARY:Minnesota Whitecaps vs. Toronto Six
DESCRIPTION:The Minnesota Whitecaps are back in action this weekend\, at home at the Richfield Ice Arena!  Watch them face off against the Toronto Six; Saturday night’s game is Super Hero Night\, and Sunday afternoon’s game is Pride Night. Join the LGBTQIA+ community\, friends\, family\, and organizations to celebrate Pride!
URL:https://visitrichfield.com/event/minnesota-whitecaps-vs-toronto-six/2023-02-25/
LOCATION:Richfield Ice Arena
CATEGORIES:family,sports
END:VEVENT
BEGIN:VEVENT
DTSTART;TZID=America/Chicago:20230219T130000
DTEND;TZID=America/Chicago:20230219T150000
DTSTAMP:20260422T042712
CREATED:20230128T194407Z
LAST-MODIFIED:20230128T194603Z
UID:6261-1676811600-1676818800@visitrichfield.com
SUMMARY:Minnesota Whitecaps vs. the Buffalo Beauts
DESCRIPTION:The Minnesota Whitecaps return to home ice!  Minnesota’s professional women’s hockey team faces off against the Buffalo Beauts at the Richfield Ice Arena this weekend! Sunday is Youth Hockey Day; wear your team jersey and stick around for post-game autographs!
URL:https://visitrichfield.com/event/minnesota-whitecaps-vs-the-buffalo-beauts-2023-02-19/
LOCATION:Richfield Ice Arena
CATEGORIES:family,sports
END:VEVENT
BEGIN:VEVENT
DTSTART;TZID=America/Chicago:20230218T180000
DTEND;TZID=America/Chicago:20230218T200000
DTSTAMP:20260422T042712
CREATED:20230128T194407Z
LAST-MODIFIED:20230128T194407Z
UID:6258-1676743200-1676750400@visitrichfield.com
SUMMARY:Minnesota Whitecaps vs. the Buffalo Beauts
DESCRIPTION:The Minnesota Whitecaps return to home ice!  Minnesota’s professional women’s hockey team faces off against the Buffalo Beauts at the Richfield Ice Arena this weekend!
URL:https://visitrichfield.com/event/minnesota-whitecaps-vs-the-buffalo-beauts/2023-02-18/
LOCATION:Richfield Ice Arena
CATEGORIES:family,sports
END:VEVENT
BEGIN:VEVENT
DTSTART;TZID=America/Chicago:20221218T130000
DTEND;TZID=America/Chicago:20221218T150000
DTSTAMP:20260422T042712
CREATED:20221128T221528Z
LAST-MODIFIED:20221128T221528Z
UID:6036-1671368400-1671375600@visitrichfield.com
SUMMARY:Minnesota Whitecaps vs. Montreal Force
DESCRIPTION:See women’s professional hockey team the Minnesota Whitecaps in their new location\, the Richfield Ice Arena! It’s Celebrate Scouts Night; grab your Scout troop and head to the game!  Special group prices for Scout groups; sign-making stations; free commemorative patch for all Scouts! Click here for tickets.
URL:https://visitrichfield.com/event/minnesota-whitecaps-vs-montreal-force-2/
LOCATION:Richfield Ice Arena
CATEGORIES:family,sports
ATTACH;FMTTYPE=image/jpeg:https://visitrichfield.com/wp-content/uploads/2022/11/vs.-Force.jpg
END:VEVENT
BEGIN:VEVENT
DTSTART;TZID=America/Chicago:20221217T180000
DTEND;TZID=America/Chicago:20221217T200000
DTSTAMP:20260422T042712
CREATED:20221128T220742Z
LAST-MODIFIED:20221128T221018Z
UID:6031-1671300000-1671307200@visitrichfield.com
SUMMARY:Minnesota Whitecaps vs. Montreal Force
DESCRIPTION:See women’s professional hockey team the Minnesota Whitecaps in their new location\, the Richfield Ice Arena! It’s Ugly Sweater Night; wear your ugliest sweater and we will wear ours! The Whitecaps will also be hosting a Teddy Bear Toss!  Click here for tickets.
URL:https://visitrichfield.com/event/minnesota-whitecaps-vs-montreal-force/
LOCATION:Richfield Ice Arena
CATEGORIES:family,sports
ATTACH;FMTTYPE=image/jpeg:https://visitrichfield.com/wp-content/uploads/2022/11/vs.-Force.jpg
END:VEVENT
BEGIN:VEVENT
DTSTART;TZID=America/Chicago:20221211T153000
DTEND;TZID=America/Chicago:20221211T170000
DTSTAMP:20260422T042712
CREATED:20221123T214848Z
LAST-MODIFIED:20221123T214848Z
UID:6021-1670772600-1670778000@visitrichfield.com
SUMMARY:Skate with Santa
DESCRIPTION:Hey families\, lace up your skates and take to the ice with the man in the big red suit! Enjoy an afternoon of fun\, photo ops\, treats\, and refreshments. Discounted skate rental.
URL:https://visitrichfield.com/event/skate-with-santa/
LOCATION:Richfield Ice Arena
CATEGORIES:active,Christmas,family,holiday
ATTACH;FMTTYPE=image/jpeg:https://visitrichfield.com/wp-content/uploads/2022/11/Skating-with-Santa-2022.jpg
END:VEVENT
BEGIN:VEVENT
DTSTART;TZID=America/Chicago:20221204T130000
DTEND;TZID=America/Chicago:20221204T150000
DTSTAMP:20260422T042712
CREATED:20221123T205353Z
LAST-MODIFIED:20221123T205415Z
UID:5996-1670158800-1670166000@visitrichfield.com
SUMMARY:Minnesota Whitecaps vs. Metropolitan Riveters
DESCRIPTION:Watch Minnesota’s only women’s professional hockey team in their new location\, the Richfield Ice Arena! It’s USA Hockey Hall of Fame Celebration Night\, with a meet-and-greet for season ticket holders after the game!  Click here for tickets.
URL:https://visitrichfield.com/event/minnesota-whitecaps-vs-metropolitan-riveters-2/
LOCATION:Richfield Ice Arena
CATEGORIES:family,sports
ATTACH;FMTTYPE=image/jpeg:https://visitrichfield.com/wp-content/uploads/2022/11/Vs.-Riveters.jpg
END:VEVENT
BEGIN:VEVENT
DTSTART;TZID=America/Chicago:20221203T180000
DTEND;TZID=America/Chicago:20221203T200000
DTSTAMP:20260422T042712
CREATED:20221123T205038Z
LAST-MODIFIED:20221123T205056Z
UID:5992-1670090400-1670097600@visitrichfield.com
SUMMARY:Minnesota Whitecaps vs. Metropolitan Riveters
DESCRIPTION:See the Whitecaps in their new location\, the Richfield Ice Arena!  It’s Girls Hockey Night; a great and affordable family night out. Come on out and bring your mothers\, wives\, and daughters! Click here for tickets!
URL:https://visitrichfield.com/event/minnesota-whitecaps-vs-metropolitan-riveters/
LOCATION:Richfield Ice Arena
CATEGORIES:family,sports
ATTACH;FMTTYPE=image/jpeg:https://visitrichfield.com/wp-content/uploads/2022/11/Vs.-Riveters.jpg
END:VEVENT
BEGIN:VEVENT
DTSTART;TZID=America/Chicago:20221120T153000
DTEND;TZID=America/Chicago:20221120T170000
DTSTAMP:20260422T042712
CREATED:20221030T185726Z
LAST-MODIFIED:20221030T185749Z
UID:5964-1668958200-1668963600@visitrichfield.com
SUMMARY:Cosmic Skating
DESCRIPTION:Stop by the Ice Arena for the first skate of the season…Cosmic Skating\, that is!  Music and lights; affordable family fun!
URL:https://visitrichfield.com/event/cosmic-skating/
LOCATION:Richfield Ice Arena
CATEGORIES:family,Richfield Events,sports
ATTACH;FMTTYPE=image/jpeg:https://visitrichfield.com/wp-content/uploads/2022/10/Cosmic-skating-2022.jpg
END:VEVENT
BEGIN:VEVENT
DTSTART;TZID=America/Chicago:20221119T180000
DTEND;TZID=America/Chicago:20221119T200000
DTSTAMP:20260422T042712
CREATED:20221030T182559Z
LAST-MODIFIED:20221030T182733Z
UID:5949-1668880800-1668888000@visitrichfield.com
SUMMARY:Minnesota Whitecaps vs. Boston Pride
DESCRIPTION:Don’t miss the home opening weekend for the Whitecaps in their new location\, the Richfield Ice Arena!  Minnesota’s only professional women’s hockey team has moved to Richfield! A great and affordable family night out. Click here for tickets!
URL:https://visitrichfield.com/event/minnesota-whitecaps-vs-boston-pride-2/
LOCATION:Richfield Ice Arena
CATEGORIES:Richfield Events,sports
ATTACH;FMTTYPE=image/jpeg:https://visitrichfield.com/wp-content/uploads/2022/10/210123_G02_BOSatMIN_00992.jpg
END:VEVENT
BEGIN:VEVENT
DTSTART;TZID=America/Chicago:20221118T190000
DTEND;TZID=America/Chicago:20221118T210000
DTSTAMP:20260422T042712
CREATED:20221030T182242Z
LAST-MODIFIED:20221030T182242Z
UID:5943-1668798000-1668805200@visitrichfield.com
SUMMARY:Minnesota Whitecaps vs. Boston Pride
DESCRIPTION:Don’t miss the home opener for the Whitecaps in their new location\, the Richfield Ice Arena!  Minnesota’s only professional women’s hockey team has moved to Richfield\, and opening night is Community Night! Plenty of giveaways plus an exciting game make for a great and affordable family night out. Click here for tickets!
URL:https://visitrichfield.com/event/minnesota-whitecaps-vs-boston-pride/
LOCATION:Richfield Ice Arena
CATEGORIES:family,Richfield Events,sports
ATTACH;FMTTYPE=image/jpeg:https://visitrichfield.com/wp-content/uploads/2022/10/210123_G02_BOSatMIN_00992.jpg
END:VEVENT
BEGIN:VEVENT
DTSTART;TZID=America/Chicago:20221007T180000
DTEND;TZID=America/Chicago:20221007T194500
DTSTAMP:20260422T042712
CREATED:20221006T165910Z
LAST-MODIFIED:20221006T165910Z
UID:5775-1665165600-1665171900@visitrichfield.com
SUMMARY:Richfield Curling Club: Fall Beginner League Kicks Off
DESCRIPTION:Runs weekly for four weeks; every Friday 6-7:45 p.m. Open to any curler 13 and over. \n 
URL:https://visitrichfield.com/event/richfield-curling-club-fall-beginner-league-kicks-off/
LOCATION:Richfield Ice Arena
CATEGORIES:Richfield Events,sports
ATTACH;FMTTYPE=image/png:https://visitrichfield.com/wp-content/uploads/2022/10/Curling-pic.png
END:VEVENT
BEGIN:VEVENT
DTSTART;TZID=UTC:20211218T190000
DTEND;TZID=UTC:20211218T220000
DTSTAMP:20260422T042712
CREATED:20211118T225110Z
LAST-MODIFIED:20220912T215345Z
UID:4555-1639854000-1639864800@visitrichfield.com
SUMMARY:Minnesota Magicians home game vs Chippewa Steel
DESCRIPTION:
URL:https://visitrichfield.com/event/minnesota-magicians-home-game-vs-chippewa-steel/
LOCATION:Richfield Ice Arena
ATTACH;FMTTYPE=image/jpeg:https://visitrichfield.com/wp-content/uploads/2021/11/Midwest-Playoff-Champs-scaled-1-e1637254059136.jpg
END:VEVENT
END:VCALENDAR