
BEGIN:VCALENDAR
VERSION:2.0
PRODID:-//Visit Richfield - ECPv6.15.20//NONSGML v1.0//EN
CALSCALE:GREGORIAN
METHOD:PUBLISH
X-WR-CALNAME:Visit Richfield
X-ORIGINAL-URL:https://visitrichfield.com
X-WR-CALDESC:Events for Visit Richfield
REFRESH-INTERVAL;VALUE=DURATION:PT1H
X-Robots-Tag:noindex
X-PUBLISHED-TTL:PT1H
BEGIN:VTIMEZONE
TZID:America/Chicago
BEGIN:DAYLIGHT
TZOFFSETFROM:-0600
TZOFFSETTO:-0500
TZNAME:CDT
DTSTART:20240310T080000
END:DAYLIGHT
BEGIN:STANDARD
TZOFFSETFROM:-0500
TZOFFSETTO:-0600
TZNAME:CST
DTSTART:20241103T070000
END:STANDARD
BEGIN:DAYLIGHT
TZOFFSETFROM:-0600
TZOFFSETTO:-0500
TZNAME:CDT
DTSTART:20250309T080000
END:DAYLIGHT
BEGIN:STANDARD
TZOFFSETFROM:-0500
TZOFFSETTO:-0600
TZNAME:CST
DTSTART:20251102T070000
END:STANDARD
BEGIN:DAYLIGHT
TZOFFSETFROM:-0600
TZOFFSETTO:-0500
TZNAME:CDT
DTSTART:20260308T080000
END:DAYLIGHT
BEGIN:STANDARD
TZOFFSETFROM:-0500
TZOFFSETTO:-0600
TZNAME:CST
DTSTART:20261101T070000
END:STANDARD
BEGIN:DAYLIGHT
TZOFFSETFROM:-0600
TZOFFSETTO:-0500
TZNAME:CDT
DTSTART:20270314T080000
END:DAYLIGHT
BEGIN:STANDARD
TZOFFSETFROM:-0500
TZOFFSETTO:-0600
TZNAME:CST
DTSTART:20271107T070000
END:STANDARD
END:VTIMEZONE
BEGIN:VEVENT
DTSTART;TZID=America/Chicago:20260411T100000
DTEND;TZID=America/Chicago:20260411T110000
DTSTAMP:20260425T102737
CREATED:20260329T191633Z
LAST-MODIFIED:20260329T191635Z
UID:11928-1775901600-1775905200@visitrichfield.com
SUMMARY:Veteran's Park Spring Cleanup
DESCRIPTION:Help get Veteran’s Park ready for spring!  Wear sturdy shoes and dress for the weather; tools provided by the City of Richfield.
URL:https://visitrichfield.com/event/veterans-park-spring-cleanup/
LOCATION:Veterans Park\, 6335 Portland Avenue South\, Richfield\, MN\, 55423
ATTACH;FMTTYPE=image/jpeg:https://visitrichfield.com/wp-content/uploads/2026/03/648961164_1358715086291827_3645813664917652431_n.jpg
END:VEVENT
BEGIN:VEVENT
DTSTART;TZID=America/Chicago:20251214T113000
DTEND;TZID=America/Chicago:20251214T153000
DTSTAMP:20260425T102737
CREATED:20251201T171421Z
LAST-MODIFIED:20251201T171421Z
UID:11727-1765711800-1765726200@visitrichfield.com
SUMMARY:Santa Day at Veterans Park
DESCRIPTION:Stop by to pick up your tree from B&J Evergreen at Richfield’s Veterans Park. Santa visits today!
URL:https://visitrichfield.com/event/santa-day-at-veterans-park/2025-12-14/
LOCATION:Veterans Park\, 6335 Portland Avenue South\, Richfield\, MN\, 55423
CATEGORIES:Christmas,family,holiday
ATTACH;FMTTYPE=image/jpeg:https://visitrichfield.com/wp-content/uploads/2025/12/485308191_9061889113937207_5950868792320189062_n.jpg
END:VEVENT
BEGIN:VEVENT
DTSTART;TZID=America/Chicago:20251213T113000
DTEND;TZID=America/Chicago:20251213T153000
DTSTAMP:20260425T102737
CREATED:20251201T171421Z
LAST-MODIFIED:20251201T171421Z
UID:11726-1765625400-1765639800@visitrichfield.com
SUMMARY:Santa Day at Veterans Park
DESCRIPTION:Stop by to pick up your tree from B&J Evergreen at Richfield’s Veterans Park. Santa visits today!
URL:https://visitrichfield.com/event/santa-day-at-veterans-park/2025-12-13/
LOCATION:Veterans Park\, 6335 Portland Avenue South\, Richfield\, MN\, 55423
CATEGORIES:Christmas,family,holiday
ATTACH;FMTTYPE=image/jpeg:https://visitrichfield.com/wp-content/uploads/2025/12/485308191_9061889113937207_5950868792320189062_n.jpg
END:VEVENT
BEGIN:VEVENT
DTSTART;TZID=America/Chicago:20251207T113000
DTEND;TZID=America/Chicago:20251207T153000
DTSTAMP:20260425T102737
CREATED:20251201T171421Z
LAST-MODIFIED:20251201T171421Z
UID:11725-1765107000-1765121400@visitrichfield.com
SUMMARY:Santa Day at Veterans Park
DESCRIPTION:Stop by to pick up your tree from B&J Evergreen at Richfield’s Veterans Park. Santa visits today!
URL:https://visitrichfield.com/event/santa-day-at-veterans-park/2025-12-07/
LOCATION:Veterans Park\, 6335 Portland Avenue South\, Richfield\, MN\, 55423
CATEGORIES:Christmas,family,holiday
ATTACH;FMTTYPE=image/jpeg:https://visitrichfield.com/wp-content/uploads/2025/12/485308191_9061889113937207_5950868792320189062_n.jpg
END:VEVENT
BEGIN:VEVENT
DTSTART;TZID=America/Chicago:20251206T113000
DTEND;TZID=America/Chicago:20251206T153000
DTSTAMP:20260425T102737
CREATED:20251201T171421Z
LAST-MODIFIED:20251201T171422Z
UID:11723-1765020600-1765035000@visitrichfield.com
SUMMARY:Santa Day at Veterans Park
DESCRIPTION:Stop by to pick up your tree from B&J Evergreen at Richfield’s Veterans Park. Santa visits today!
URL:https://visitrichfield.com/event/santa-day-at-veterans-park/2025-12-06/
LOCATION:Veterans Park\, 6335 Portland Avenue South\, Richfield\, MN\, 55423
CATEGORIES:Christmas,family,holiday
ATTACH;FMTTYPE=image/jpeg:https://visitrichfield.com/wp-content/uploads/2025/12/485308191_9061889113937207_5950868792320189062_n.jpg
END:VEVENT
BEGIN:VEVENT
DTSTART;TZID=America/Chicago:20251122T100000
DTEND;TZID=America/Chicago:20251122T190000
DTSTAMP:20260425T102737
CREATED:20251027T161348Z
LAST-MODIFIED:20251027T161350Z
UID:11698-1763805600-1763838000@visitrichfield.com
SUMMARY:
DESCRIPTION:Tree sales start today!  Buy a fresh tree from a local grower for the holidays: A Richfield tradition continues as Clear Lake\, Minnesota-based B&J Evergreen will sell holiday trees and stands\, garlands\, wreaths\, spruce tips\, and swags this weekend until all of the trees are sold. Premium Fraser\, Balsam\, Scotch Pine\, Canaan Fir\, and White Pine available. 10 a.m.-7 p.m. November 22 and 23\, and daily after that at Veterans Park in Richfield.
URL:https://visitrichfield.com/event/11698/
LOCATION:Veterans Park\, 6335 Portland Avenue South\, Richfield\, MN\, 55423
CATEGORIES:Christmas,holiday
ATTACH;FMTTYPE=image/jpeg:https://visitrichfield.com/wp-content/uploads/2025/10/sleigh.jpeg
END:VEVENT
BEGIN:VEVENT
DTSTART;TZID=America/Chicago:20251108T100000
DTEND;TZID=America/Chicago:20251108T120000
DTSTAMP:20260425T102737
CREATED:20251026T142607Z
LAST-MODIFIED:20251026T142608Z
UID:11665-1762596000-1762603200@visitrichfield.com
SUMMARY:Richfield Pumpkin Smash
DESCRIPTION:Bring your tired\, past-their-prime pumpkins to Veterans Park parking lot and see whose pumpkin ca drop\, splat\, and smash the best! This family-friendly event is FREE and open to all ages. Pumpkins brought to this event will be collected for composting. \nPlease bring only natural pumpkins\, with no paint\, glitter\, candle wax\, or stickers. Be sure to remove glow sticks\, lights\, or candles before the event.
URL:https://visitrichfield.com/event/richfield-pumpkin-smash-2/
LOCATION:Veterans Park\, 6335 Portland Avenue South\, Richfield\, MN\, 55423
CATEGORIES:family
ATTACH;FMTTYPE=image/jpeg:https://visitrichfield.com/wp-content/uploads/2025/10/534554983_1177228557769858_4972652849199482878_n.jpg
END:VEVENT
BEGIN:VEVENT
DTSTART;TZID=America/Chicago:20251026T130000
DTEND;TZID=America/Chicago:20251026T183000
DTSTAMP:20260425T102737
CREATED:20250922T161822Z
LAST-MODIFIED:20250922T161831Z
UID:11612-1761483600-1761503400@visitrichfield.com
SUMMARY:Fun-Size Halloween
DESCRIPTION:Come in costume to this old-fashioned Halloween party with games\, treats\, and refreshments! Help make fresh-pressed apple cider\, play some games\, watch magic happen right before your eyes\, and go on a Halloween-themed scavenger hunt to earn a special “treat!” \nNote:  This event will take place at Veterans Park on Portland Avenue in Richfield.  Primarily designed for children age 10 and under. Admission is $8 per person; Tickets available for specific entry times\, every 20 minutes between 1 and 5 p.m.\, and must be purchased in advance. 
URL:https://visitrichfield.com/event/fun-size-halloween/
LOCATION:Veterans Park\, 6335 Portland Avenue South\, Richfield\, MN\, 55423
CATEGORIES:Halloween
ATTACH;FMTTYPE=image/jpeg:https://visitrichfield.com/wp-content/uploads/2023/09/Half-Haunted-Halloween.jpg
END:VEVENT
BEGIN:VEVENT
DTSTART;TZID=America/Chicago:20251025T080000
DTEND;TZID=America/Chicago:20251025T120000
DTSTAMP:20260425T102737
CREATED:20250828T154517Z
LAST-MODIFIED:20250828T154517Z
UID:11379-1761379200-1761393600@visitrichfield.com
SUMMARY:Richfield Farmers Market
DESCRIPTION:On Saturday\, September 6\, the Richfield Farmers Market will move to its fall hours!  The Farmers Market will run every Saturday morning 8 a.m. to noon\, through October 25  Click here to see the list of vendors\, updated every week.  Enjoy free outdoor yoga every week\, 8:45-9:30 a.m.\, and live music weekly!
URL:https://visitrichfield.com/event/richfield-farmers-market-8/2025-10-25/
LOCATION:Veterans Park\, 6335 Portland Avenue South\, Richfield\, MN\, 55423
CATEGORIES:farmers market
ATTACH;FMTTYPE=image/jpeg:https://visitrichfield.com/wp-content/uploads/2019/07/farmers-market-3.jpg
END:VEVENT
BEGIN:VEVENT
DTSTART;TZID=America/Chicago:20251018T080000
DTEND;TZID=America/Chicago:20251018T120000
DTSTAMP:20260425T102737
CREATED:20250828T154517Z
LAST-MODIFIED:20250828T154517Z
UID:11378-1760774400-1760788800@visitrichfield.com
SUMMARY:Richfield Farmers Market
DESCRIPTION:On Saturday\, September 6\, the Richfield Farmers Market will move to its fall hours!  The Farmers Market will run every Saturday morning 8 a.m. to noon\, through October 25  Click here to see the list of vendors\, updated every week.  Enjoy free outdoor yoga every week\, 8:45-9:30 a.m.\, and live music weekly!
URL:https://visitrichfield.com/event/richfield-farmers-market-8/2025-10-18/
LOCATION:Veterans Park\, 6335 Portland Avenue South\, Richfield\, MN\, 55423
CATEGORIES:farmers market
ATTACH;FMTTYPE=image/jpeg:https://visitrichfield.com/wp-content/uploads/2019/07/farmers-market-3.jpg
END:VEVENT
BEGIN:VEVENT
DTSTART;TZID=America/Chicago:20251011T080000
DTEND;TZID=America/Chicago:20251011T120000
DTSTAMP:20260425T102737
CREATED:20250828T154517Z
LAST-MODIFIED:20250828T154517Z
UID:11377-1760169600-1760184000@visitrichfield.com
SUMMARY:Richfield Farmers Market
DESCRIPTION:On Saturday\, September 6\, the Richfield Farmers Market will move to its fall hours!  The Farmers Market will run every Saturday morning 8 a.m. to noon\, through October 25  Click here to see the list of vendors\, updated every week.  Enjoy free outdoor yoga every week\, 8:45-9:30 a.m.\, and live music weekly!
URL:https://visitrichfield.com/event/richfield-farmers-market-8/2025-10-11/
LOCATION:Veterans Park\, 6335 Portland Avenue South\, Richfield\, MN\, 55423
CATEGORIES:farmers market
ATTACH;FMTTYPE=image/jpeg:https://visitrichfield.com/wp-content/uploads/2019/07/farmers-market-3.jpg
END:VEVENT
BEGIN:VEVENT
DTSTART;TZID=America/Chicago:20251004T080000
DTEND;TZID=America/Chicago:20251004T120000
DTSTAMP:20260425T102737
CREATED:20250828T154517Z
LAST-MODIFIED:20250828T154517Z
UID:11376-1759564800-1759579200@visitrichfield.com
SUMMARY:Richfield Farmers Market
DESCRIPTION:On Saturday\, September 6\, the Richfield Farmers Market will move to its fall hours!  The Farmers Market will run every Saturday morning 8 a.m. to noon\, through October 25  Click here to see the list of vendors\, updated every week.  Enjoy free outdoor yoga every week\, 8:45-9:30 a.m.\, and live music weekly!
URL:https://visitrichfield.com/event/richfield-farmers-market-8/2025-10-04/
LOCATION:Veterans Park\, 6335 Portland Avenue South\, Richfield\, MN\, 55423
CATEGORIES:farmers market
ATTACH;FMTTYPE=image/jpeg:https://visitrichfield.com/wp-content/uploads/2019/07/farmers-market-3.jpg
END:VEVENT
BEGIN:VEVENT
DTSTART;TZID=America/Chicago:20250927T080000
DTEND;TZID=America/Chicago:20250927T120000
DTSTAMP:20260425T102737
CREATED:20250828T154517Z
LAST-MODIFIED:20250828T154517Z
UID:11375-1758960000-1758974400@visitrichfield.com
SUMMARY:Richfield Farmers Market
DESCRIPTION:On Saturday\, September 6\, the Richfield Farmers Market will move to its fall hours!  The Farmers Market will run every Saturday morning 8 a.m. to noon\, through October 25  Click here to see the list of vendors\, updated every week.  Enjoy free outdoor yoga every week\, 8:45-9:30 a.m.\, and live music weekly!
URL:https://visitrichfield.com/event/richfield-farmers-market-8/2025-09-27/
LOCATION:Veterans Park\, 6335 Portland Avenue South\, Richfield\, MN\, 55423
CATEGORIES:farmers market
ATTACH;FMTTYPE=image/jpeg:https://visitrichfield.com/wp-content/uploads/2019/07/farmers-market-3.jpg
END:VEVENT
BEGIN:VEVENT
DTSTART;TZID=America/Chicago:20250920T080000
DTEND;TZID=America/Chicago:20250920T120000
DTSTAMP:20260425T102737
CREATED:20250828T154517Z
LAST-MODIFIED:20250828T154517Z
UID:11374-1758355200-1758369600@visitrichfield.com
SUMMARY:Richfield Farmers Market
DESCRIPTION:On Saturday\, September 6\, the Richfield Farmers Market will move to its fall hours!  The Farmers Market will run every Saturday morning 8 a.m. to noon\, through October 25  Click here to see the list of vendors\, updated every week.  Enjoy free outdoor yoga every week\, 8:45-9:30 a.m.\, and live music weekly!
URL:https://visitrichfield.com/event/richfield-farmers-market-8/2025-09-20/
LOCATION:Veterans Park\, 6335 Portland Avenue South\, Richfield\, MN\, 55423
CATEGORIES:farmers market
ATTACH;FMTTYPE=image/jpeg:https://visitrichfield.com/wp-content/uploads/2019/07/farmers-market-3.jpg
END:VEVENT
BEGIN:VEVENT
DTSTART;TZID=America/Chicago:20250913T140000
DTEND;TZID=America/Chicago:20250913T161500
DTSTAMP:20260425T102737
CREATED:20250901T203657Z
LAST-MODIFIED:20250901T203658Z
UID:11391-1757772000-1757780100@visitrichfield.com
SUMMARY:Richfield Winter Clothing Swap
DESCRIPTION:Refresh your winter wardrobe at this reuse-focused event! Bring clean unwanted sweaters\, coats\, snowpants\, gloves\, scarves\, hats\, and wool socks to swap out with other participants. No other items will be accepted. Pre-swap drop-off will be available at the Richfield Farmers Market from 7 a.m. to 12 p.m.\, and items will be accepted during the swap until 3:30 p.m.
URL:https://visitrichfield.com/event/richfield-winter-clothing-swap/
LOCATION:Veterans Park\, 6335 Portland Avenue South\, Richfield\, MN\, 55423
ATTACH;FMTTYPE=image/jpeg:https://visitrichfield.com/wp-content/uploads/2025/09/Winter-Clothing.jpg
END:VEVENT
BEGIN:VEVENT
DTSTART;TZID=America/Chicago:20250913T080000
DTEND;TZID=America/Chicago:20250913T120000
DTSTAMP:20260425T102737
CREATED:20250828T154517Z
LAST-MODIFIED:20250828T154517Z
UID:11373-1757750400-1757764800@visitrichfield.com
SUMMARY:Richfield Farmers Market
DESCRIPTION:On Saturday\, September 6\, the Richfield Farmers Market will move to its fall hours!  The Farmers Market will run every Saturday morning 8 a.m. to noon\, through October 25  Click here to see the list of vendors\, updated every week.  Enjoy free outdoor yoga every week\, 8:45-9:30 a.m.\, and live music weekly!
URL:https://visitrichfield.com/event/richfield-farmers-market-8/2025-09-13/
LOCATION:Veterans Park\, 6335 Portland Avenue South\, Richfield\, MN\, 55423
CATEGORIES:farmers market
ATTACH;FMTTYPE=image/jpeg:https://visitrichfield.com/wp-content/uploads/2019/07/farmers-market-3.jpg
END:VEVENT
BEGIN:VEVENT
DTSTART;TZID=America/Chicago:20250906T190000
DTEND;TZID=America/Chicago:20250906T210000
DTSTAMP:20260425T102737
CREATED:20250826T175214Z
LAST-MODIFIED:20250826T175656Z
UID:11370-1757185200-1757192400@visitrichfield.com
SUMMARY:Cosmic Mini-Golf
DESCRIPTION:Get ready for an unforgettable night of fun and excitement! Experience vibrant neon colors and the magic of blacklight as you play a round of Cosmic Mini Golf. Plus enjoy inflatables\, music\, and concessions for the whole family. Registration encouraged at www.richfieldmn.gov/register\, but walk-up registration with credit cards will also be allowed as space permits. Players will start in groups every 15 minutes.$8/person.
URL:https://visitrichfield.com/event/cosmic-mini-golf/2025-09-06/
LOCATION:Veterans Park\, 6335 Portland Avenue South\, Richfield\, MN\, 55423
CATEGORIES:mini-golf
ATTACH;FMTTYPE=image/jpeg:https://visitrichfield.com/wp-content/uploads/2025/08/Cosmic-Golf-II.jpg
END:VEVENT
BEGIN:VEVENT
DTSTART;TZID=America/Chicago:20250906T080000
DTEND;TZID=America/Chicago:20250906T120000
DTSTAMP:20260425T102737
CREATED:20250828T154517Z
LAST-MODIFIED:20250828T154519Z
UID:11372-1757145600-1757160000@visitrichfield.com
SUMMARY:Richfield Farmers Market
DESCRIPTION:On Saturday\, September 6\, the Richfield Farmers Market will move to its fall hours!  The Farmers Market will run every Saturday morning 8 a.m. to noon\, through October 25  Click here to see the list of vendors\, updated every week.  Enjoy free outdoor yoga every week\, 8:45-9:30 a.m.\, and live music weekly!
URL:https://visitrichfield.com/event/richfield-farmers-market-8/2025-09-06/
LOCATION:Veterans Park\, 6335 Portland Avenue South\, Richfield\, MN\, 55423
CATEGORIES:farmers market
ATTACH;FMTTYPE=image/jpeg:https://visitrichfield.com/wp-content/uploads/2019/07/farmers-market-3.jpg
END:VEVENT
BEGIN:VEVENT
DTSTART;TZID=America/Chicago:20250905T190000
DTEND;TZID=America/Chicago:20250905T210000
DTSTAMP:20260425T102737
CREATED:20250826T175214Z
LAST-MODIFIED:20250826T175655Z
UID:11368-1757098800-1757106000@visitrichfield.com
SUMMARY:Cosmic Mini-Golf
DESCRIPTION:Get ready for an unforgettable night of fun and excitement! Experience vibrant neon colors and the magic of blacklight as you play a round of Cosmic Mini Golf. Plus enjoy inflatables\, music\, and concessions for the whole family. Registration encouraged at www.richfieldmn.gov/register\, but walk-up registration with credit cards will also be allowed as space permits. Players will start in groups every 15 minutes.$8/person.
URL:https://visitrichfield.com/event/cosmic-mini-golf/2025-09-05/
LOCATION:Veterans Park\, 6335 Portland Avenue South\, Richfield\, MN\, 55423
CATEGORIES:mini-golf
ATTACH;FMTTYPE=image/jpeg:https://visitrichfield.com/wp-content/uploads/2025/08/Cosmic-Golf-II.jpg
END:VEVENT
BEGIN:VEVENT
DTSTART;TZID=America/Chicago:20250628T070000
DTEND;TZID=America/Chicago:20250628T120000
DTSTAMP:20260425T102737
CREATED:20250427T215359Z
LAST-MODIFIED:20250427T215359Z
UID:11160-1751094000-1751112000@visitrichfield.com
SUMMARY:Richfield Farmers Market
DESCRIPTION:On Saturday\, May 3\, the Richfield Farmers Market will start its summer season and celebrate 36 years in Richfield!  Click here to see the list of vendors\, updated every week.  Enjoy free outdoor yoga every week\, 8:45-9:30 a.m.\, and live music weekly!
URL:https://visitrichfield.com/event/richfield-farmers-market-7/2025-06-28/
LOCATION:Veterans Park\, 6335 Portland Avenue South\, Richfield\, MN\, 55423
CATEGORIES:farmers market
ATTACH;FMTTYPE=image/jpeg:https://visitrichfield.com/wp-content/uploads/2021/09/farmers-market.jpg
END:VEVENT
BEGIN:VEVENT
DTSTART;TZID=America/Chicago:20250621T070000
DTEND;TZID=America/Chicago:20250621T120000
DTSTAMP:20260425T102737
CREATED:20250525T143444Z
LAST-MODIFIED:20250525T143445Z
UID:11145-1750489200-1750507200@visitrichfield.com
SUMMARY:Juneteenth Pop-up Celebration
DESCRIPTION:Join us at the Richfield Farmers Market on June 21 for Richfield’s Juneteenth Pop-up Celebration! We’ll have specialty Black-owned businesses\, Juneteenth pins\, a storybook hike that gives some education behind Juneteenth\, and live music. Bring a friend!
URL:https://visitrichfield.com/event/juneteenth-pop-up-celebration/
LOCATION:Veterans Park\, 6335 Portland Avenue South\, Richfield\, MN\, 55423
CATEGORIES:culture
ATTACH;FMTTYPE=image/jpeg:https://visitrichfield.com/wp-content/uploads/2025/05/Juneteenth.jpg
END:VEVENT
BEGIN:VEVENT
DTSTART;TZID=America/Chicago:20250621T070000
DTEND;TZID=America/Chicago:20250621T120000
DTSTAMP:20260425T102737
CREATED:20250427T215359Z
LAST-MODIFIED:20250427T215359Z
UID:11159-1750489200-1750507200@visitrichfield.com
SUMMARY:Richfield Farmers Market
DESCRIPTION:On Saturday\, May 3\, the Richfield Farmers Market will start its summer season and celebrate 36 years in Richfield!  Click here to see the list of vendors\, updated every week.  Enjoy free outdoor yoga every week\, 8:45-9:30 a.m.\, and live music weekly!
URL:https://visitrichfield.com/event/richfield-farmers-market-7/2025-06-21/
LOCATION:Veterans Park\, 6335 Portland Avenue South\, Richfield\, MN\, 55423
CATEGORIES:farmers market
ATTACH;FMTTYPE=image/jpeg:https://visitrichfield.com/wp-content/uploads/2021/09/farmers-market.jpg
END:VEVENT
BEGIN:VEVENT
DTSTART;TZID=America/Chicago:20250614T070000
DTEND;TZID=America/Chicago:20250614T120000
DTSTAMP:20260425T102737
CREATED:20250427T215359Z
LAST-MODIFIED:20250427T215359Z
UID:11158-1749884400-1749902400@visitrichfield.com
SUMMARY:Richfield Farmers Market
DESCRIPTION:On Saturday\, May 3\, the Richfield Farmers Market will start its summer season and celebrate 36 years in Richfield!  Click here to see the list of vendors\, updated every week.  Enjoy free outdoor yoga every week\, 8:45-9:30 a.m.\, and live music weekly!
URL:https://visitrichfield.com/event/richfield-farmers-market-7/2025-06-14/
LOCATION:Veterans Park\, 6335 Portland Avenue South\, Richfield\, MN\, 55423
CATEGORIES:farmers market
ATTACH;FMTTYPE=image/jpeg:https://visitrichfield.com/wp-content/uploads/2021/09/farmers-market.jpg
END:VEVENT
BEGIN:VEVENT
DTSTART;TZID=America/Chicago:20250610T103000
DTEND;TZID=America/Chicago:20250610T120000
DTSTAMP:20260425T102737
CREATED:20250525T140220Z
LAST-MODIFIED:20250525T140221Z
UID:11136-1749551400-1749556800@visitrichfield.com
SUMMARY:GrandFUN Day!
DESCRIPTION:Grandparents\, bring your grandchildren to Veterans Park for a morning of GrandFUN! Play a round of mini-golf\, enjoy a slice of pizza\, and play on the playground. They’re only little once\, so spend some quality time with those you love. \nThis programs is best for youth ages 3-12. $10/person; register here.
URL:https://visitrichfield.com/event/grandfun-day/
LOCATION:Veterans Park\, 6335 Portland Avenue South\, Richfield\, MN\, 55423
CATEGORIES:active
END:VEVENT
BEGIN:VEVENT
DTSTART;TZID=America/Chicago:20250607T070000
DTEND;TZID=America/Chicago:20250607T120000
DTSTAMP:20260425T102737
CREATED:20250427T215359Z
LAST-MODIFIED:20250427T215359Z
UID:11157-1749279600-1749297600@visitrichfield.com
SUMMARY:Richfield Farmers Market
DESCRIPTION:On Saturday\, May 3\, the Richfield Farmers Market will start its summer season and celebrate 36 years in Richfield!  Click here to see the list of vendors\, updated every week.  Enjoy free outdoor yoga every week\, 8:45-9:30 a.m.\, and live music weekly!
URL:https://visitrichfield.com/event/richfield-farmers-market-7/2025-06-07/
LOCATION:Veterans Park\, 6335 Portland Avenue South\, Richfield\, MN\, 55423
CATEGORIES:farmers market
ATTACH;FMTTYPE=image/jpeg:https://visitrichfield.com/wp-content/uploads/2021/09/farmers-market.jpg
END:VEVENT
BEGIN:VEVENT
DTSTART;TZID=America/Chicago:20250531T070000
DTEND;TZID=America/Chicago:20250531T120000
DTSTAMP:20260425T102737
CREATED:20250427T215359Z
LAST-MODIFIED:20250427T215359Z
UID:11077-1748674800-1748692800@visitrichfield.com
SUMMARY:Richfield Farmers Market
DESCRIPTION:On Saturday\, May 3\, the Richfield Farmers Market will start its summer season and celebrate 36 years in Richfield!  Click here to see the list of vendors\, updated every week.  Enjoy free outdoor yoga every week\, 8:45-9:30 a.m.\, and live music weekly.
URL:https://visitrichfield.com/event/richfield-farmers-market-7/2025-05-31/
LOCATION:Veterans Park\, 6335 Portland Avenue South\, Richfield\, MN\, 55423
CATEGORIES:farmers market
ATTACH;FMTTYPE=image/jpeg:https://visitrichfield.com/wp-content/uploads/2021/09/farmers-market.jpg
END:VEVENT
BEGIN:VEVENT
DTSTART;TZID=America/Chicago:20250524T070000
DTEND;TZID=America/Chicago:20250524T120000
DTSTAMP:20260425T102737
CREATED:20250427T215359Z
LAST-MODIFIED:20250427T215359Z
UID:11076-1748070000-1748088000@visitrichfield.com
SUMMARY:Richfield Farmers Market
DESCRIPTION:On Saturday\, May 3\, the Richfield Farmers Market will start its summer season and celebrate 36 years in Richfield!  Click here to see the list of vendors\, updated every week.  Enjoy free outdoor yoga every week\, 8:45-9:30 a.m.\, and live music weekly.
URL:https://visitrichfield.com/event/richfield-farmers-market-7/2025-05-24/
LOCATION:Veterans Park\, 6335 Portland Avenue South\, Richfield\, MN\, 55423
CATEGORIES:farmers market
ATTACH;FMTTYPE=image/jpeg:https://visitrichfield.com/wp-content/uploads/2021/09/farmers-market.jpg
END:VEVENT
BEGIN:VEVENT
DTSTART;TZID=America/Chicago:20250517T190000
DTEND;TZID=America/Chicago:20250517T210000
DTSTAMP:20260425T102737
CREATED:20250427T224530Z
LAST-MODIFIED:20250427T224530Z
UID:11089-1747508400-1747515600@visitrichfield.com
SUMMARY:Glow in the Dark Mini-Golf
DESCRIPTION:Get ready for an unforgettable night of fun and excitement!  Experience vibrant neon colors and the magic of blacklight as you play a round of Glow in the Dark Mini-Golf!  Plus\, enjoy an inflatable slide\, music\, and concessions for the whole family. Pre-registration encouraged\, but walk-up registration with cash will be allowed as space permits.
URL:https://visitrichfield.com/event/glow-in-the-dark-mini-golf/2025-05-17/
LOCATION:Veterans Park\, 6335 Portland Avenue South\, Richfield\, MN\, 55423
CATEGORIES:active,mini-golf
ATTACH;FMTTYPE=image/jpeg:https://visitrichfield.com/wp-content/uploads/2025/04/Glow-in-the-Dark-Mini-Golf.jpg
END:VEVENT
BEGIN:VEVENT
DTSTART;TZID=America/Chicago:20250517T070000
DTEND;TZID=America/Chicago:20250517T120000
DTSTAMP:20260425T102737
CREATED:20250427T215359Z
LAST-MODIFIED:20250427T215359Z
UID:11075-1747465200-1747483200@visitrichfield.com
SUMMARY:Richfield Farmers Market
DESCRIPTION:On Saturday\, May 3\, the Richfield Farmers Market will start its summer season and celebrate 36 years in Richfield!  Click here to see the list of vendors\, updated every week.  Enjoy free outdoor yoga every week\, 8:45-9:30 a.m.\, and live music weekly.
URL:https://visitrichfield.com/event/richfield-farmers-market-7/2025-05-17/
LOCATION:Veterans Park\, 6335 Portland Avenue South\, Richfield\, MN\, 55423
CATEGORIES:farmers market
ATTACH;FMTTYPE=image/jpeg:https://visitrichfield.com/wp-content/uploads/2021/09/farmers-market.jpg
END:VEVENT
BEGIN:VEVENT
DTSTART;TZID=America/Chicago:20250516T190000
DTEND;TZID=America/Chicago:20250516T210000
DTSTAMP:20260425T102737
CREATED:20250427T224530Z
LAST-MODIFIED:20250427T224530Z
UID:11088-1747422000-1747429200@visitrichfield.com
SUMMARY:Glow in the Dark Mini-Golf
DESCRIPTION:Get ready for an unforgettable night of fun and excitement!  Experience vibrant neon colors and the magic of blacklight as you play a round of Glow in the Dark Mini-Golf!  Plus\, enjoy an inflatable slide\, music\, and concessions for the whole family. Pre-registration encouraged\, but walk-up registration with cash will be allowed as space permits.
URL:https://visitrichfield.com/event/glow-in-the-dark-mini-golf/2025-05-16/
LOCATION:Veterans Park\, 6335 Portland Avenue South\, Richfield\, MN\, 55423
CATEGORIES:active,mini-golf
ATTACH;FMTTYPE=image/jpeg:https://visitrichfield.com/wp-content/uploads/2025/04/Glow-in-the-Dark-Mini-Golf.jpg
END:VEVENT
END:VCALENDAR